BEGIN:VCALENDAR
VERSION:2.0
PRODID:-//msasoco.org//NONSGML kigkonsult.se iCalcreator 2.30.10//
CALSCALE:GREGORIAN
METHOD:PUBLISH
UID:2136eb2c-1170-4688-860b-8faadc5dd52d
X-WR-CALDESC:
X-WR-RELCALID:f7baa15ab34ad5b5ad5cc6def9b6fd2b
X-WR-TIMEZONE:America/Chicago
BEGIN:VTIMEZONE
TZID:America/Chicago
BEGIN:STANDARD
TZNAME:CST
DTSTART:20191103T020000
TZOFFSETFROM:-0500
TZOFFSETTO:-0600
RDATE:20201101T020000
END:STANDARD
BEGIN:DAYLIGHT
TZNAME:CDT
DTSTART:20190310T020000
TZOFFSETFROM:-0600
TZOFFSETTO:-0500
RDATE:20200308T020000
RDATE:20210314T020000
END:DAYLIGHT
END:VTIMEZONE
BEGIN:VEVENT
UID:11c00b5c-0e1c-4282-84b5-67efab791335
DTSTAMP:20260421T164439Z
DESCRIPTION:
DTSTART;TZID=America/Chicago:20191210T110000
DTEND;TZID=America/Chicago:20191210T120000
LOCATION:MSA Office 17011 Campus Dr.\, Colorado Springs\, CO 80920
SUMMARY:Women’s Support
END:VEVENT
END:VCALENDAR
