BEGIN:VCALENDAR
VERSION:2.0
PRODID:-//msasoco.org//NONSGML kigkonsult.se iCalcreator 2.30.10//
CALSCALE:GREGORIAN
METHOD:PUBLISH
UID:0eafe78a-be3b-46d8-bd8c-461823608c6d
X-WR-CALDESC:
X-WR-RELCALID:fb3b4008f4e9bf4ff48e0e3094c9579a
X-WR-TIMEZONE:America/Chicago
BEGIN:VTIMEZONE
TZID:America/Chicago
BEGIN:STANDARD
TZNAME:CST
DTSTART:20191103T020000
TZOFFSETFROM:-0500
TZOFFSETTO:-0600
RDATE:20201101T020000
END:STANDARD
BEGIN:DAYLIGHT
TZNAME:CDT
DTSTART:20190310T020000
TZOFFSETFROM:-0600
TZOFFSETTO:-0500
RDATE:20200308T020000
RDATE:20210314T020000
END:DAYLIGHT
END:VTIMEZONE
BEGIN:VEVENT
UID:a5ecdc7a-360a-4f41-aafb-97a322aa693f
DTSTAMP:20260419T152736Z
DESCRIPTION:
DTSTART;TZID=America/Chicago:20200302T133000
DTEND;TZID=America/Chicago:20200302T143000
LOCATION:Center for Self-Reliance\, 901 West 8th St.\, Pueblo\, CO 81003
SUMMARY:Pueblo Support Group
END:VEVENT
END:VCALENDAR
