BEGIN:VCALENDAR
VERSION:2.0
PRODID:-//msasoco.org//NONSGML kigkonsult.se iCalcreator 2.30.10//
CALSCALE:GREGORIAN
METHOD:PUBLISH
UID:c85be2f6-6b98-4165-a45f-135d96896bf8
X-WR-CALDESC:To receive a Zoom link\, contact our office.
X-WR-RELCALID:3d1c19528a2ad95c2e22a6d5a3962cfd
X-WR-TIMEZONE:America/Denver
BEGIN:VTIMEZONE
TZID:America/Denver
BEGIN:STANDARD
TZNAME:MST
DTSTART:20191103T020000
TZOFFSETFROM:-0600
TZOFFSETTO:-0700
RDATE:20201101T020000
RDATE:20211107T020000
END:STANDARD
BEGIN:DAYLIGHT
TZNAME:MDT
DTSTART:20200308T020000
TZOFFSETFROM:-0700
TZOFFSETTO:-0600
RDATE:20210314T020000
END:DAYLIGHT
END:VTIMEZONE
BEGIN:VEVENT
UID:fba4c8a9-0827-45c3-b9df-344d57762a21
DTSTAMP:20260422T100439Z
DESCRIPTION:To receive a Zoom link\, contact our office.
DTSTART;TZID=America/Denver:20200511T110000
DTEND;TZID=America/Denver:20200511T120000
LOCATION:Currently held via Zoom.
SUMMARY:Pueblo Adaptive Yoga
END:VEVENT
END:VCALENDAR
