BEGIN:VCALENDAR
VERSION:2.0
PRODID:-//msasoco.org//NONSGML kigkonsult.se iCalcreator 2.30.10//
CALSCALE:GREGORIAN
METHOD:PUBLISH
UID:f4da2c3b-0f1d-4911-82f1-415ec16e05e3
X-WR-CALDESC:
X-WR-RELCALID:208c49832ff8a1d5026c323984340ce3
X-WR-TIMEZONE:America/Denver
BEGIN:VTIMEZONE
TZID:America/Denver
BEGIN:STANDARD
TZNAME:MST
DTSTART:20191103T020000
TZOFFSETFROM:-0600
TZOFFSETTO:-0700
RDATE:20201101T020000
RDATE:20211107T020000
END:STANDARD
BEGIN:DAYLIGHT
TZNAME:MDT
DTSTART:20200308T020000
TZOFFSETFROM:-0700
TZOFFSETTO:-0600
RDATE:20210314T020000
END:DAYLIGHT
END:VTIMEZONE
BEGIN:VEVENT
UID:10498009-2f6d-4870-9709-a8dd9ac623ef
DTSTAMP:20260420T200715Z
DESCRIPTION:
DTSTART;TZID=America/Denver:20200519T121500
DTEND;TZID=America/Denver:20200519T131500
LOCATION:MSA Office 7011 Campus Dr.\, Colorado Springs\, CO 80920
SUMMARY:Adaptive Yoga
END:VEVENT
END:VCALENDAR
