BEGIN:VCALENDAR
VERSION:2.0
PRODID:-//msasoco.org//NONSGML kigkonsult.se iCalcreator 2.30.10//
CALSCALE:GREGORIAN
METHOD:PUBLISH
UID:21f6a6d7-1050-4e7f-95b0-961cc05c758a
X-WR-CALDESC:We are pleased to welcome back Joel Junker for this first in a
  2-part series on family relationships. Part 2 will be held on May 20th at
  11:00am. Look for more information on this series to come soon!
X-WR-RELCALID:8480733dae902016442917a109251906
X-WR-TIMEZONE:America/Denver
BEGIN:VTIMEZONE
TZID:America/Denver
BEGIN:STANDARD
TZNAME:MST
DTSTART:20201101T020000
TZOFFSETFROM:-0600
TZOFFSETTO:-0700
RDATE:20211107T020000
END:STANDARD
BEGIN:DAYLIGHT
TZNAME:MDT
DTSTART:20210314T020000
TZOFFSETFROM:-0700
TZOFFSETTO:-0600
RDATE:20220313T020000
END:DAYLIGHT
END:VTIMEZONE
BEGIN:VEVENT
UID:b09ea208-8ceb-4a2f-82cb-cd28731e8cc1
DTSTAMP:20260425T145634Z
DESCRIPTION:We are pleased to welcome back Joel Junker for this first in a 
 2-part series on family relationships. Part 2 will be held on May 20th at 
 11:00am. Look for more information on this series to come soon!
DTSTART;TZID=America/Denver:20210504T110000
DTEND;TZID=America/Denver:20210504T123000
LOCATION:Online Event
SUMMARY:Family Relationships in the Time of Covid (and how to avoid mayhem!
 )
END:VEVENT
END:VCALENDAR
