BEGIN:VCALENDAR
VERSION:2.0
PRODID:-//msasoco.org//NONSGML kigkonsult.se iCalcreator 2.30.10//
CALSCALE:GREGORIAN
METHOD:PUBLISH
UID:0fc945d4-d3ef-4348-a72a-812338f069fb
X-WR-CALDESC:In this Biogen-sponsored webinar\, Christen Kutz\, PhD\, PA-C 
 will lead a conversation on the considerations in play when treatment deci
 sions are made. You'll learn about the importance of early treatment\, wei
 ghing the potential benefits and safety risks of treatment\, and how to wo
 rk with your healthcare team in determining the right plan for you. Also i
 n the discussion will be Sheri P. who is living with MS.
X-WR-RELCALID:e8e2a12b809e6a77263fd77f47fb2605
X-WR-TIMEZONE:America/Denver
BEGIN:VTIMEZONE
TZID:America/Denver
BEGIN:STANDARD
TZNAME:MST
DTSTART:20201101T020000
TZOFFSETFROM:-0600
TZOFFSETTO:-0700
RDATE:20211107T020000
RDATE:20221106T020000
END:STANDARD
BEGIN:DAYLIGHT
TZNAME:MDT
DTSTART:20210314T020000
TZOFFSETFROM:-0700
TZOFFSETTO:-0600
RDATE:20220313T020000
END:DAYLIGHT
END:VTIMEZONE
BEGIN:VEVENT
UID:f84fcb38-66bd-4cca-b6fe-74cf5dcbb0d7
DTSTAMP:20260425T144405Z
DESCRIPTION:In this Biogen-sponsored webinar\, Christen Kutz\, PhD\, PA-C w
 ill lead a conversation on the considerations in play when treatment decis
 ions are made. You'll learn about the importance of early treatment\, weig
 hing the potential benefits and safety risks of treatment\, and how to wor
 k with your healthcare team in determining the right plan for you. Also in
  the discussion will be Sheri P. who is living with MS.
DTSTART;TZID=America/Denver:20210817T130000
DTEND;TZID=America/Denver:20210817T143000
LOCATION:Online Event
SUMMARY:Balancing Benefits & Risks in MS Treatment
END:VEVENT
END:VCALENDAR
