BEGIN:VCALENDAR
VERSION:2.0
PRODID:-//msasoco.org//NONSGML kigkonsult.se iCalcreator 2.30.10//
CALSCALE:GREGORIAN
METHOD:PUBLISH
UID:06e70163-c0a3-4f02-94d4-a4e69d176f8c
X-WR-CALDESC:Join Beverly Gilder\, MD and the MSASOCO for this free TYSABRI
  event that includes a complimentary dinner at the fabulous Warehouse Rest
 aurant downtown.  Find out why this unique treatment has provided astoundi
 ng results for relapsing MS sufferers\, and learn what you need to know (a
 nd discuss with your physician) to determine if TYSABRI is right for you.
X-WR-RELCALID:7e7ed621147b0c9b18958ac39f6ac8a5
X-WR-TIMEZONE:America/Denver
BEGIN:VTIMEZONE
TZID:America/Denver
BEGIN:STANDARD
TZNAME:MST
DTSTART:20201101T020000
TZOFFSETFROM:-0600
TZOFFSETTO:-0700
RDATE:20211107T020000
RDATE:20221106T020000
END:STANDARD
BEGIN:DAYLIGHT
TZNAME:MDT
DTSTART:20210314T020000
TZOFFSETFROM:-0700
TZOFFSETTO:-0600
RDATE:20220313T020000
RDATE:20230312T020000
END:DAYLIGHT
END:VTIMEZONE
BEGIN:VEVENT
UID:e290f30b-dad7-44cb-abfe-938637b666a4
DTSTAMP:20260425T144103Z
DESCRIPTION:Join Beverly Gilder\, MD and the MSASOCO for this free TYSABRI 
 event that includes a complimentary dinner at the fabulous Warehouse Resta
 urant downtown.  Find out why this unique treatment has provided astoundin
 g results for relapsing MS sufferers\, and learn what you need to know (an
 d discuss with your physician) to determine if TYSABRI is right for you.
DTSTART;TZID=America/Denver:20210930T174500
DTEND;TZID=America/Denver:20210930T194500
LOCATION:
SUMMARY:TYSABRI Dinner & Conversation
END:VEVENT
END:VCALENDAR
