BEGIN:VCALENDAR
VERSION:2.0
PRODID:-//msasoco.org//NONSGML kigkonsult.se iCalcreator 2.30.10//
CALSCALE:GREGORIAN
METHOD:PUBLISH
UID:dd3c1359-1d62-4600-a794-24f9c8b07bec
X-WR-CALDESC:Join us for dinner and an informative discussion about MAVENCL
 AD\, an oral treatment option for relapsing MS with a unique dosing schedu
 le. Presented by Elaine Edmonds\, MD\, PhD\, Space is limited - EARLY REGI
 STRATION IS RECOMMENDED. Due to the popularity of MAVENCLAD events\, atten
 dance is limited to a maximum of 3 events per person.
X-WR-RELCALID:dca587cc26e24f006aad74cf5e29a6cf
X-WR-TIMEZONE:America/Denver
BEGIN:VTIMEZONE
TZID:America/Denver
BEGIN:STANDARD
TZNAME:MST
DTSTART:20211107T020000
TZOFFSETFROM:-0600
TZOFFSETTO:-0700
RDATE:20221106T020000
END:STANDARD
BEGIN:DAYLIGHT
TZNAME:MDT
DTSTART:20210314T020000
TZOFFSETFROM:-0700
TZOFFSETTO:-0600
RDATE:20220313T020000
RDATE:20230312T020000
END:DAYLIGHT
END:VTIMEZONE
BEGIN:VEVENT
UID:1e075c3b-1195-4642-b0d3-3f9de1ca0e4d
DTSTAMP:20260424T163324Z
DESCRIPTION:Join us for dinner and an informative discussion about MAVENCLA
 D\, an oral treatment option for relapsing MS with a unique dosing schedul
 e. Presented by Elaine Edmonds\, MD\, PhD\, Space is limited - EARLY REGIS
 TRATION IS RECOMMENDED. Due to the popularity of MAVENCLAD events\, attend
 ance is limited to a maximum of 3 events per person.
DTSTART;TZID=America/Denver:20211108T180000
DTEND;TZID=America/Denver:20211108T193000
LOCATION:Biaggi's Ristorante Italiano\, 1805 Briargate Parkway\, Colorado S
 prings\, CO 80920 US
SUMMARY:MAVENCLAD Live Event
END:VEVENT
END:VCALENDAR
