BEGIN:VCALENDAR
VERSION:2.0
PRODID:-//msasoco.org//NONSGML kigkonsult.se iCalcreator 2.30.10//
CALSCALE:GREGORIAN
METHOD:PUBLISH
UID:9ceb8d9e-651a-451a-9753-9236d712a78c
X-WR-CALDESC:The first of a two-part series of meditative self-care with Jo
 rdan Ciambrone. Come shed your burdens and focus on the strength you have 
 within. Attendance at both sessions is not mandatory\, and you will reap a
  benefit either way.  Join us and find peace and empowerment. Held over Zo
 om. To receive a video link to today's session\, contact the MSA office. N
 ote: WOMEN'S SUPPORT GROUP IS CANCELLED FOR TODAY.
X-WR-RELCALID:d466469ee6adad53a7d39504fb13e40c
X-WR-TIMEZONE:America/Denver
BEGIN:VTIMEZONE
TZID:America/Denver
BEGIN:STANDARD
TZNAME:MST
DTSTART:20211107T020000
TZOFFSETFROM:-0600
TZOFFSETTO:-0700
RDATE:20221106T020000
END:STANDARD
BEGIN:DAYLIGHT
TZNAME:MDT
DTSTART:20210314T020000
TZOFFSETFROM:-0700
TZOFFSETTO:-0600
RDATE:20220313T020000
RDATE:20230312T020000
END:DAYLIGHT
END:VTIMEZONE
BEGIN:VEVENT
UID:40a6a320-d4a3-4c3b-93b2-0fda0fdfbef9
DTSTAMP:20260425T144706Z
DESCRIPTION:The first of a two-part series of meditative self-care with Jor
 dan Ciambrone. Come shed your burdens and focus on the strength you have w
 ithin. Attendance at both sessions is not mandatory\, and you will reap a 
 benefit either way.  Join us and find peace and empowerment. Held over Zoo
 m. To receive a video link to today's session\, contact the MSA office. No
 te: WOMEN'S SUPPORT GROUP IS CANCELLED FOR TODAY.
DTSTART;TZID=America/Denver:20220208T110000
DTEND;TZID=America/Denver:20220208T120000
LOCATION:Currently held via Zoom.
SUMMARY:Focusing On What Matters with Jordan Ciambrone
END:VEVENT
END:VCALENDAR
