BEGIN:VCALENDAR
VERSION:2.0
PRODID:-//msasoco.org//NONSGML kigkonsult.se iCalcreator 2.30.10//
CALSCALE:GREGORIAN
METHOD:PUBLISH
UID:98674137-9684-43eb-b374-3ea952adfd2a
X-WR-CALDESC:Patty Glatfelter hosts The Road Ahead\, a Balance and Falling 
 event spread across three Saturdays in March and April. Join us to improve
  stability\, gait and confidence in everyday movement.
X-WR-RELCALID:d4a3f59fdfa87109a7b702be8d4ce427
X-WR-TIMEZONE:America/Denver
BEGIN:VTIMEZONE
TZID:America/Denver
BEGIN:STANDARD
TZNAME:MST
DTSTART:20211107T020000
TZOFFSETFROM:-0600
TZOFFSETTO:-0700
RDATE:20221106T020000
END:STANDARD
BEGIN:DAYLIGHT
TZNAME:MDT
DTSTART:20220313T020000
TZOFFSETFROM:-0700
TZOFFSETTO:-0600
RDATE:20230312T020000
END:DAYLIGHT
END:VTIMEZONE
BEGIN:VEVENT
UID:48d1ff65-7e59-44c6-b0a0-5dc4ba944ed0
DTSTAMP:20260425T144706Z
DESCRIPTION:Patty Glatfelter hosts The Road Ahead\, a Balance and Falling e
 vent spread across three Saturdays in March and April. Join us to improve 
 stability\, gait and confidence in everyday movement.
DTSTART;TZID=America/Denver:20220409T110000
DTEND;TZID=America/Denver:20220409T120000
LOCATION:
SUMMARY:Patty's Balance and Falling Event
END:VEVENT
END:VCALENDAR
