BEGIN:VCALENDAR
VERSION:2.0
PRODID:-//msasoco.org//NONSGML kigkonsult.se iCalcreator 2.30.10//
CALSCALE:GREGORIAN
METHOD:PUBLISH
UID:ac390018-dcf2-47e5-9998-ba350f0e4375
X-WR-CALDESC:Optic Neuritis is one of the symptoms of MS most likely to dri
 ve a sufferer to seek diagnosis. Dr. Kassie Johnston of Pine Creek Vision 
 Clinic discussed with us why it happens\, early signs to look for\, and wa
 ys to mitigate and manage it. This was a data-reach presentation\, and we 
 are sure to want to have Dr. Johnston back again for follow-up questions! 
 The video of today's session as well as Dr. Johnston's bio are found throu
 gh the links below.\n
X-WR-RELCALID:a2dc0f772110f79b2c4767288ed26205
X-WR-TIMEZONE:America/Denver
BEGIN:VTIMEZONE
TZID:America/Denver
BEGIN:STANDARD
TZNAME:MST
DTSTART:20211107T020000
TZOFFSETFROM:-0600
TZOFFSETTO:-0700
RDATE:20221106T020000
END:STANDARD
BEGIN:DAYLIGHT
TZNAME:MDT
DTSTART:20220313T020000
TZOFFSETFROM:-0700
TZOFFSETTO:-0600
RDATE:20230312T020000
END:DAYLIGHT
END:VTIMEZONE
BEGIN:VEVENT
UID:e1ca562d-7958-4d6a-b8f7-6ea3d72ff0d7
DTSTAMP:20260425T144410Z
DESCRIPTION:Optic Neuritis is one of the symptoms of MS most likely to driv
 e a sufferer to seek diagnosis. Dr. Kassie Johnston of Pine Creek Vision C
 linic discussed with us why it happens\, early signs to look for\, and way
 s to mitigate and manage it. This was a data-reach presentation\, and we a
 re sure to want to have Dr. Johnston back again for follow-up questions! T
 he video of today's session as well as Dr. Johnston's bio are found throug
 h the links below.\n
DTSTART;TZID=America/Denver:20220419T120000
DTEND;TZID=America/Denver:20220419T130000
LOCATION:
SUMMARY:Optic Neuritis In Focus
END:VEVENT
END:VCALENDAR
