BEGIN:VCALENDAR
VERSION:2.0
PRODID:-//msasoco.org//NONSGML kigkonsult.se iCalcreator 2.30.10//
CALSCALE:GREGORIAN
METHOD:PUBLISH
UID:9b8cccad-56b6-492c-afac-909e8c5f5ed5
X-WR-CALDESC:Tom Stewart joined us for an in-depth discussion on disability
  law and our individual rights in Colorado. He took the time to answer spe
 cific legal questions from all of us who asked. It was truly an empowering
  session\, and we look forward to  having Tom back again!
X-WR-RELCALID:141a278b0dc6623572a38d446a85072b
X-WR-TIMEZONE:America/Denver
BEGIN:VTIMEZONE
TZID:America/Denver
BEGIN:STANDARD
TZNAME:MST
DTSTART:20211107T020000
TZOFFSETFROM:-0600
TZOFFSETTO:-0700
RDATE:20221106T020000
END:STANDARD
BEGIN:DAYLIGHT
TZNAME:MDT
DTSTART:20220313T020000
TZOFFSETFROM:-0700
TZOFFSETTO:-0600
RDATE:20230312T020000
END:DAYLIGHT
END:VTIMEZONE
BEGIN:VEVENT
UID:7896d7d8-2d8d-4a98-96d4-8f18e897b68d
DTSTAMP:20260425T144553Z
DESCRIPTION:Tom Stewart joined us for an in-depth discussion on disability 
 law and our individual rights in Colorado. He took the time to answer spec
 ific legal questions from all of us who asked. It was truly an empowering 
 session\, and we look forward to  having Tom back again!
DTSTART;TZID=America/Denver:20220422T110000
DTEND;TZID=America/Denver:20220422T120000
LOCATION:via Zoom
SUMMARY:Disability Law with Tom Stewart
END:VEVENT
END:VCALENDAR
