BEGIN:VCALENDAR
VERSION:2.0
PRODID:-//msasoco.org//NONSGML kigkonsult.se iCalcreator 2.30.10//
CALSCALE:GREGORIAN
METHOD:PUBLISH
UID:73e2bfc1-b8a5-416a-b8b4-028a3777dbad
X-WR-CALDESC:There is more to each of us than we know\, and it can take per
 sonal tragedy to bring these hidden strengths out.  Sue Thomas has known p
 ersonal tragedy: Complete hearing loss\, Multiple Sclerosis\, and Lung Can
 cer. Each time\, she discovered something remarkable within herself. Sue T
 homas warmed us all with her optimism and her irrepressible love for life.
   WE APPOLOGIZE that the first two minutes of Sue's introduction was cut o
 ff  in the Zoom recording. Know that this takes nothing away from her pres
 entation.
X-WR-RELCALID:eb8594ea2bdc899ad062cdab2d054238
X-WR-TIMEZONE:America/Denver
BEGIN:VTIMEZONE
TZID:America/Denver
BEGIN:STANDARD
TZNAME:MST
DTSTART:20211107T020000
TZOFFSETFROM:-0600
TZOFFSETTO:-0700
RDATE:20221106T020000
END:STANDARD
BEGIN:DAYLIGHT
TZNAME:MDT
DTSTART:20220313T020000
TZOFFSETFROM:-0700
TZOFFSETTO:-0600
RDATE:20230312T020000
END:DAYLIGHT
END:VTIMEZONE
BEGIN:VEVENT
UID:26c92cfa-1242-40d9-8489-094cd488601d
DTSTAMP:20260425T144430Z
DESCRIPTION:There is more to each of us than we know\, and it can take pers
 onal tragedy to bring these hidden strengths out.  Sue Thomas has known pe
 rsonal tragedy: Complete hearing loss\, Multiple Sclerosis\, and Lung Canc
 er. Each time\, she discovered something remarkable within herself. Sue Th
 omas warmed us all with her optimism and her irrepressible love for life. 
  WE APPOLOGIZE that the first two minutes of Sue's introduction was cut of
 f  in the Zoom recording. Know that this takes nothing away from her prese
 ntation.
DTSTART;TZID=America/Denver:20220426T120000
DTEND;TZID=America/Denver:20220426T130000
LOCATION:via Zoom
SUMMARY:Be Inspired with Sue Thomas
END:VEVENT
END:VCALENDAR
