BEGIN:VCALENDAR
VERSION:2.0
PRODID:-//msasoco.org//NONSGML kigkonsult.se iCalcreator 2.30.10//
CALSCALE:GREGORIAN
METHOD:PUBLISH
UID:f81258a5-984f-4663-838f-5691b718e791
X-WR-CALDESC:Dr. John Sherman presented an excellent primer on the informat
 ion contained in an MRI. Attendees submitted questions over the weeks lead
 ing up to the event\, with questions continuing to come in even as the eve
 nt began. Dr. Sherman got to as many of them as he could\, but it was clea
 r by the end of the hour that he would need to return for a Part 2. Look f
 or that to be scheduled soon. Whether you were at the event or not\, you w
 ill want to review the event video below. Seriously\, there was THAT much 
 information provided. Thank you Dr. Sherman!\n\n
X-WR-RELCALID:6533a8816f5ac6242cb8c23051e96f71
X-WR-TIMEZONE:America/Denver
BEGIN:VTIMEZONE
TZID:America/Denver
BEGIN:STANDARD
TZNAME:MST
DTSTART:20211107T020000
TZOFFSETFROM:-0600
TZOFFSETTO:-0700
RDATE:20221106T020000
END:STANDARD
BEGIN:DAYLIGHT
TZNAME:MDT
DTSTART:20220313T020000
TZOFFSETFROM:-0700
TZOFFSETTO:-0600
RDATE:20230312T020000
END:DAYLIGHT
END:VTIMEZONE
BEGIN:VEVENT
UID:d05a98a6-66b2-48d2-b977-a761f4da2b85
DTSTAMP:20260425T144410Z
DESCRIPTION:Dr. John Sherman presented an excellent primer on the informati
 on contained in an MRI. Attendees submitted questions over the weeks leadi
 ng up to the event\, with questions continuing to come in even as the even
 t began. Dr. Sherman got to as many of them as he could\, but it was clear
  by the end of the hour that he would need to return for a Part 2. Look fo
 r that to be scheduled soon. Whether you were at the event or not\, you wi
 ll want to review the event video below. Seriously\, there was THAT much i
 nformation provided. Thank you Dr. Sherman!\n\n
DTSTART;TZID=America/Denver:20220504T110000
DTEND;TZID=America/Denver:20220504T120000
LOCATION:Via Zoom
SUMMARY:Demystifying the MRI
END:VEVENT
END:VCALENDAR
