BEGIN:VCALENDAR
VERSION:2.0
PRODID:-//msasoco.org//NONSGML kigkonsult.se iCalcreator 2.30.10//
CALSCALE:GREGORIAN
METHOD:PUBLISH
UID:9de6bbc4-ee63-4e01-ae5f-8bcd22fb8adc
X-WR-CALDESC:Patty was joined today by her special guest\, Cameron Athey\, 
 Orthotist and Clinic Manager of the Hanger Clinic in Parker\, CO. His pres
 entation covered the Clinic's breakthrough appliances for MS-related ambul
 atory issues\, including new ankle-foot orthosis designs\, and the WalkAid
 e© system\, a wearable battery-operated Functional Electrical Stimulation 
 (FES) device that provides a dramatic and immediate improvement in gait. T
 his was the first of a two-part presentation by Orthotists from Hanger Cli
 nic. The second will be on June 8th.
X-WR-RELCALID:53e414d3d7e87e90e704621fdfbe26e4
X-WR-TIMEZONE:America/Denver
BEGIN:VTIMEZONE
TZID:America/Denver
BEGIN:STANDARD
TZNAME:MST
DTSTART:20211107T020000
TZOFFSETFROM:-0600
TZOFFSETTO:-0700
RDATE:20221106T020000
RDATE:20231105T020000
END:STANDARD
BEGIN:DAYLIGHT
TZNAME:MDT
DTSTART:20220313T020000
TZOFFSETFROM:-0700
TZOFFSETTO:-0600
RDATE:20230312T020000
END:DAYLIGHT
END:VTIMEZONE
BEGIN:VEVENT
UID:8b2a0d24-0abe-4616-ac1c-f96bcf534eb4
DTSTAMP:20260425T144721Z
DESCRIPTION:Patty was joined today by her special guest\, Cameron Athey\, O
 rthotist and Clinic Manager of the Hanger Clinic in Parker\, CO. His prese
 ntation covered the Clinic's breakthrough appliances for MS-related ambula
 tory issues\, including new ankle-foot orthosis designs\, and the WalkAide
 © system\, a wearable battery-operated Functional Electrical Stimulation (
 FES) device that provides a dramatic and immediate improvement in gait. Th
 is was the first of a two-part presentation by Orthotists from Hanger Clin
 ic. The second will be on June 8th.
DTSTART;TZID=America/Denver:20220601T133000
DTEND;TZID=America/Denver:20220601T143000
LOCATION:Via Zoom
SUMMARY:Cameron Athey: A Special PT with Patty
END:VEVENT
END:VCALENDAR
