BEGIN:VCALENDAR
VERSION:2.0
PRODID:-//msasoco.org//NONSGML kigkonsult.se iCalcreator 2.30.10//
CALSCALE:GREGORIAN
METHOD:PUBLISH
UID:72917b3c-03a0-453e-8ef3-ec22e4c93609
X-WR-CALDESC:Join us for lunch at Biaggi’s Ristorante Italiano to learn abo
 ut OCREVUS\, a 2-times-a-year prescription infusion for adults with relaps
 ing or primary progressive forms of multiple sclerosis. Space is limited\,
  and these events tend to book up quickly. Early registration is advised.
X-WR-RELCALID:73c16bcbb8286707f51cc7bb98f99171
X-WR-TIMEZONE:America/Denver
BEGIN:VTIMEZONE
TZID:America/Denver
BEGIN:STANDARD
TZNAME:MST
DTSTART:20211107T020000
TZOFFSETFROM:-0600
TZOFFSETTO:-0700
RDATE:20221106T020000
RDATE:20231105T020000
END:STANDARD
BEGIN:DAYLIGHT
TZNAME:MDT
DTSTART:20220313T020000
TZOFFSETFROM:-0700
TZOFFSETTO:-0600
RDATE:20230312T020000
END:DAYLIGHT
END:VTIMEZONE
BEGIN:VEVENT
UID:c3816e91-f55e-4f3a-8790-24e436e64985
DTSTAMP:20260425T144303Z
DESCRIPTION:Join us for lunch at Biaggi’s Ristorante Italiano to learn abou
 t OCREVUS\, a 2-times-a-year prescription infusion for adults with relapsi
 ng or primary progressive forms of multiple sclerosis. Space is limited\, 
 and these events tend to book up quickly. Early registration is advised.
DTSTART;TZID=America/Denver:20220610T120000
DTEND;TZID=America/Denver:20220610T130000
LOCATION:
SUMMARY:OCREVUS Lunch-and-Learn
END:VEVENT
END:VCALENDAR
