BEGIN:VCALENDAR
VERSION:2.0
PRODID:-//msasoco.org//NONSGML kigkonsult.se iCalcreator 2.30.10//
CALSCALE:GREGORIAN
METHOD:PUBLISH
UID:528de52e-4ef2-43e6-99e4-a19843a248c1
X-WR-CALDESC:The MS Life Lines Event Tour came to Colorado Springs!\nGuest 
 speaker David Rankine\, MD\, lead this engaging conversation about how the
  immune system works\, how MS and the immune system interact\, how vaccine
 s work with the immune system\, and how vaccines generally work in the bod
 y. This was our opportunity to learn\, ask questions and connect with othe
 r people who are be going through the same things we are. Lunch was provid
 ed by Biaggi's Ristorante Italiano.
X-WR-RELCALID:c59327e8a6f56b470c06da857dd36bba
X-WR-TIMEZONE:America/Denver
BEGIN:VTIMEZONE
TZID:America/Denver
BEGIN:STANDARD
TZNAME:MST
DTSTART:20211107T020000
TZOFFSETFROM:-0600
TZOFFSETTO:-0700
RDATE:20221106T020000
RDATE:20231105T020000
END:STANDARD
BEGIN:DAYLIGHT
TZNAME:MDT
DTSTART:20220313T020000
TZOFFSETFROM:-0700
TZOFFSETTO:-0600
RDATE:20230312T020000
RDATE:20240310T020000
END:DAYLIGHT
END:VTIMEZONE
BEGIN:VEVENT
UID:f0a72a84-0241-4ab8-969a-a8be3c5aec6a
DTSTAMP:20260425T144533Z
DESCRIPTION:The MS Life Lines Event Tour came to Colorado Springs!\nGuest s
 peaker David Rankine\, MD\, lead this engaging conversation about how the 
 immune system works\, how MS and the immune system interact\, how vaccines
  work with the immune system\, and how vaccines generally work in the body
 . This was our opportunity to learn\, ask questions and connect with other
  people who are be going through the same things we are. Lunch was provide
 d by Biaggi's Ristorante Italiano.
DTSTART;TZID=America/Denver:20220910T120000
DTEND;TZID=America/Denver:20220910T140000
LOCATION:
SUMMARY:Vaccines\, MS and the Immune System
END:VEVENT
END:VCALENDAR
