BEGIN:VCALENDAR
VERSION:2.0
PRODID:-//msasoco.org//NONSGML kigkonsult.se iCalcreator 2.30.10//
CALSCALE:GREGORIAN
METHOD:PUBLISH
UID:1eb54d39-ad99-49d6-9c34-3b2c0aa07ed9
X-WR-CALDESC:You are cordially invited to the MSA's 2022 Septemberfest\, a 
 celebration of friends\, fun\, food and live music as we raise awareness f
 or\, and help fight the debilitating effects of\, multiple sclerosis and o
 ther disabilities. Featuring the music of Andy Clifton and Company and a v
 isit with the STAR WARS STORMTROOPERS!  Enjoy miniature therapy ponies pro
 vided by StableStrides\, panini sandwiches and quesadillas by Panini Islan
 d\, and desserts by SmallCakes. Have your sketch drawn by a very talented 
 young artists\, and stop by the video booth for your interview\, filmed by
  Planet X Productions. The Janaky Brothers of Loyal Leaf CBD will be there
  to show their latest product line-up\, and  more programs and vendors are
  still to be announced!
X-WR-RELCALID:8f3ed2d30f87fc8d478b1dde797d5dc3
X-WR-TIMEZONE:America/Denver
BEGIN:VTIMEZONE
TZID:America/Denver
BEGIN:STANDARD
TZNAME:MST
DTSTART:20211107T020000
TZOFFSETFROM:-0600
TZOFFSETTO:-0700
RDATE:20221106T020000
RDATE:20231105T020000
END:STANDARD
BEGIN:DAYLIGHT
TZNAME:MDT
DTSTART:20220313T020000
TZOFFSETFROM:-0700
TZOFFSETTO:-0600
RDATE:20230312T020000
RDATE:20240310T020000
END:DAYLIGHT
END:VTIMEZONE
BEGIN:VEVENT
UID:5df284b7-30c0-4b55-84e1-52b488e6155f
DTSTAMP:20260425T143933Z
DESCRIPTION:You are cordially invited to the MSA's 2022 Septemberfest\, a c
 elebration of friends\, fun\, food and live music as we raise awareness fo
 r\, and help fight the debilitating effects of\, multiple sclerosis and ot
 her disabilities. Featuring the music of Andy Clifton and Company and a vi
 sit with the STAR WARS STORMTROOPERS!  Enjoy miniature therapy ponies prov
 ided by StableStrides\, panini sandwiches and quesadillas by Panini Island
 \, and desserts by SmallCakes. Have your sketch drawn by a very talented y
 oung artists\, and stop by the video booth for your interview\, filmed by 
 Planet X Productions. The Janaky Brothers of Loyal Leaf CBD will be there 
 to show their latest product line-up\, and  more programs and vendors are 
 still to be announced!
DTSTART;TZID=America/Denver:20220917T100000
DTEND;TZID=America/Denver:20220917T140000
LOCATION:MSASOCO\, 7011 Campus Drive\, COLORADO SPRINGS\, CO 80920 US
SUMMARY:Septemberfest
END:VEVENT
END:VCALENDAR
