BEGIN:VCALENDAR
VERSION:2.0
PRODID:-//msasoco.org//NONSGML kigkonsult.se iCalcreator 2.30.10//
CALSCALE:GREGORIAN
METHOD:PUBLISH
UID:21670460-e03f-4759-9b54-1e23e076d528
X-WR-CALDESC:Lynn Perry hosted a deeply informative and personalized discus
 sion! She covered everything from managing income and savings in order to 
 avoid losing disability benefits\, to how to handle your end-of-life wishe
 s through medical powers of attorney and living wills. A majority of the s
 ession was spent addressing the specific concerns raised by participants. 
 Discussions were loose\, wide-ranging and comforting. Everyone came away b
 etter informed and yet eager for Lynn to return to host a follow-up event.
  Whether you were able to join us or not\, everyone will benefit from view
 ing the video from today's session multiple times!
X-WR-RELCALID:02929007c314bb6024cca64107f99808
X-WR-TIMEZONE:America/Denver
BEGIN:VTIMEZONE
TZID:America/Denver
BEGIN:STANDARD
TZNAME:MST
DTSTART:20221106T020000
TZOFFSETFROM:-0600
TZOFFSETTO:-0700
RDATE:20231105T020000
END:STANDARD
BEGIN:DAYLIGHT
TZNAME:MDT
DTSTART:20220313T020000
TZOFFSETFROM:-0700
TZOFFSETTO:-0600
RDATE:20230312T020000
RDATE:20240310T020000
END:DAYLIGHT
END:VTIMEZONE
BEGIN:VEVENT
UID:57aefe1d-f187-48fa-b463-b8ff120306a5
DTSTAMP:20260419T144507Z
DESCRIPTION:Lynn Perry hosted a deeply informative and personalized discuss
 ion! She covered everything from managing income and savings in order to a
 void losing disability benefits\, to how to handle your end-of-life wishes
  through medical powers of attorney and living wills. A majority of the se
 ssion was spent addressing the specific concerns raised by participants. D
 iscussions were loose\, wide-ranging and comforting. Everyone came away be
 tter informed and yet eager for Lynn to return to host a follow-up event. 
 Whether you were able to join us or not\, everyone will benefit from viewi
 ng the video from today's session multiple times!
DTSTART;TZID=America/Denver:20230313T110000
DTEND;TZID=America/Denver:20230313T120000
LOCATION:Via Zoom
SUMMARY:Legal Planning for your Future
END:VEVENT
END:VCALENDAR
