BEGIN:VCALENDAR
VERSION:2.0
PRODID:-//msasoco.org//NONSGML kigkonsult.se iCalcreator 2.30.10//
CALSCALE:GREGORIAN
METHOD:PUBLISH
UID:fb4bce72-8471-406a-a606-d51c5c30417d
X-WR-CALDESC:What are YOU doing today? If it doesn't include JOINING US FOR
  BINGO\, you are cheating yourself out of tons of fun! Come join the game 
 where laughter abounds and winners are everywhere! Sign up now so we can g
 et your game supplies delivered to you by game-day.
X-WR-RELCALID:fc17c3ab9e4e6170a167fdf080aae332
X-WR-TIMEZONE:America/Denver
BEGIN:VTIMEZONE
TZID:America/Denver
BEGIN:STANDARD
TZNAME:MST
DTSTART:20221106T020000
TZOFFSETFROM:-0600
TZOFFSETTO:-0700
RDATE:20231105T020000
END:STANDARD
BEGIN:DAYLIGHT
TZNAME:MDT
DTSTART:20230312T020000
TZOFFSETFROM:-0700
TZOFFSETTO:-0600
RDATE:20240310T020000
END:DAYLIGHT
END:VTIMEZONE
BEGIN:VEVENT
UID:04a72682-4540-4b39-93ef-d3bcaa74186e
DTSTAMP:20260425T144227Z
DESCRIPTION:What are YOU doing today? If it doesn't include JOINING US FOR 
 BINGO\, you are cheating yourself out of tons of fun! Come join the game w
 here laughter abounds and winners are everywhere! Sign up now so we can ge
 t your game supplies delivered to you by game-day.
DTSTART;TZID=America/Denver:20230421T130000
DTEND;TZID=America/Denver:20230421T140000
LOCATION:
SUMMARY:Bingo Friday!
END:VEVENT
END:VCALENDAR
