BEGIN:VCALENDAR
VERSION:2.0
PRODID:-//msasoco.org//NONSGML kigkonsult.se iCalcreator 2.30.10//
CALSCALE:GREGORIAN
METHOD:PUBLISH
UID:52910167-b4cf-470d-a4f7-1d3bb53ac221
X-WR-CALDESC:What a fantastic day we had at the Ed Robson Arena where we en
 joyed the amazing (elderly) athletic prowess of our own Geezer hockey team
 s.We were treated to delicious LuLu'sfrozen yogurt and a generous bagel bu
 ffet provided Bellas Bagels\, plus prizes\, a raffle\, and the opportunity
  to bid on a captivating array of auction items! We'd like to thank Humana
  for helping to sponsor the 2023 Ol' Geezer Classic. This was the rockin'e
 st\, sockin'est\, fastest-paced fundraiser ever!
X-WR-RELCALID:124cfcc5287cacfeca65a60433feb920
X-WR-TIMEZONE:America/Denver
BEGIN:VTIMEZONE
TZID:America/Denver
BEGIN:STANDARD
TZNAME:MST
DTSTART:20221106T020000
TZOFFSETFROM:-0600
TZOFFSETTO:-0700
RDATE:20231105T020000
RDATE:20241103T020000
END:STANDARD
BEGIN:DAYLIGHT
TZNAME:MDT
DTSTART:20230312T020000
TZOFFSETFROM:-0700
TZOFFSETTO:-0600
RDATE:20240310T020000
END:DAYLIGHT
END:VTIMEZONE
BEGIN:VEVENT
UID:2482521b-21ef-4d2c-808b-c14e0d19fbd5
DTSTAMP:20260425T144722Z
DESCRIPTION:What a fantastic day we had at the Ed Robson Arena where we enj
 oyed the amazing (elderly) athletic prowess of our own Geezer hockey teams
 .We were treated to delicious LuLu'sfrozen yogurt and a generous bagel buf
 fet provided Bellas Bagels\, plus prizes\, a raffle\, and the opportunity 
 to bid on a captivating array of auction items! We'd like to thank Humana 
 for helping to sponsor the 2023 Ol' Geezer Classic. This was the rockin'es
 t\, sockin'est\, fastest-paced fundraiser ever!
DTSTART;TZID=America/Denver:20230610T100000
DTEND;TZID=America/Denver:20230610T140000
LOCATION:849 N. Tejon St. \, Colorado Springs \, CO 80903 US
SUMMARY:11th Annual Ol' Geezer Hockey Game
END:VEVENT
END:VCALENDAR
