BEGIN:VCALENDAR
VERSION:2.0
PRODID:-//msasoco.org//NONSGML kigkonsult.se iCalcreator 2.30.10//
CALSCALE:GREGORIAN
METHOD:PUBLISH
UID:0f885ad2-23cf-4d4c-8e4e-581ffb272908
X-WR-CALDESC:Today Patty presented the 2nd half of her Bands For All exerci
 se series with a focus on the lower extremities. To help demonstrate these
  moves\, she had a volunteer 'from the audience' jump up on the table to b
 e Patty's 'movement model.' We are all so grateful to Nikki's friend\, Sue
 \, who was visiting from Arizona. She made a wonderful model\, leaving Pat
 ty free to teach the class with greater focus and insight!
X-WR-RELCALID:e533022d0aa9155e35f0aa02db5f8238
X-WR-TIMEZONE:America/Denver
BEGIN:VTIMEZONE
TZID:America/Denver
BEGIN:STANDARD
TZNAME:MST
DTSTART:20221106T020000
TZOFFSETFROM:-0600
TZOFFSETTO:-0700
RDATE:20231105T020000
RDATE:20241103T020000
END:STANDARD
BEGIN:DAYLIGHT
TZNAME:MDT
DTSTART:20230312T020000
TZOFFSETFROM:-0700
TZOFFSETTO:-0600
RDATE:20240310T020000
END:DAYLIGHT
END:VTIMEZONE
BEGIN:VEVENT
UID:60f8b88a-90c1-42f9-8f8b-f65883155551
DTSTAMP:20260425T144109Z
DESCRIPTION:Today Patty presented the 2nd half of her Bands For All exercis
 e series with a focus on the lower extremities. To help demonstrate these 
 moves\, she had a volunteer 'from the audience' jump up on the table to be
  Patty's 'movement model.' We are all so grateful to Nikki's friend\, Sue\
 , who was visiting from Arizona. She made a wonderful model\, leaving Patt
 y free to teach the class with greater focus and insight!
DTSTART;TZID=America/Denver:20230621T133000
DTEND;TZID=America/Denver:20230621T143000
LOCATION:
SUMMARY:PT with Patty
END:VEVENT
END:VCALENDAR
