BEGIN:VCALENDAR
VERSION:2.0
PRODID:-//msasoco.org//NONSGML kigkonsult.se iCalcreator 2.30.10//
CALSCALE:GREGORIAN
METHOD:PUBLISH
UID:bed1cc35-b6d8-4a14-bbc7-73ed6a7dbdce
X-WR-CALDESC:Janice Baker joined us on short notice to provide an upbeat ta
 ke on healthy foods. Between her turtles\, iguana and Richard Simmons cook
 book from the 1980s\, she treated us to an enjoyable romp through foods th
 at nourish the spirit as well as the body. Anyone looking to choose better
  foods without dread will find this talk to be both encouraging and uplift
 ing. Janice reserved a hearty slice of her time for Q and A\, which the au
 dience took full advantage of.
X-WR-RELCALID:acc0821b140fd84ca465702020e89282
X-WR-TIMEZONE:America/Denver
BEGIN:VTIMEZONE
TZID:America/Denver
BEGIN:STANDARD
TZNAME:MST
DTSTART:20221106T020000
TZOFFSETFROM:-0600
TZOFFSETTO:-0700
RDATE:20231105T020000
RDATE:20241103T020000
END:STANDARD
BEGIN:DAYLIGHT
TZNAME:MDT
DTSTART:20230312T020000
TZOFFSETFROM:-0700
TZOFFSETTO:-0600
RDATE:20240310T020000
END:DAYLIGHT
END:VTIMEZONE
BEGIN:VEVENT
UID:8cdb7384-8d77-41b7-94e2-9e337d70fb89
DTSTAMP:20260425T144601Z
DESCRIPTION:Janice Baker joined us on short notice to provide an upbeat tak
 e on healthy foods. Between her turtles\, iguana and Richard Simmons cookb
 ook from the 1980s\, she treated us to an enjoyable romp through foods tha
 t nourish the spirit as well as the body. Anyone looking to choose better 
 foods without dread will find this talk to be both encouraging and uplifti
 ng. Janice reserved a hearty slice of her time for Q and A\, which the aud
 ience took full advantage of.
DTSTART;TZID=America/Denver:20230717T123000
DTEND;TZID=America/Denver:20230717T133000
LOCATION:7011 CAMPUS DR STE 110\, Colorado Springs\, CO 80920 US
SUMMARY:No Sad Food with Janice Baker
END:VEVENT
END:VCALENDAR
