BEGIN:VCALENDAR
VERSION:2.0
PRODID:-//msasoco.org//NONSGML kigkonsult.se iCalcreator 2.30.10//
CALSCALE:GREGORIAN
METHOD:PUBLISH
UID:5d0be0f3-a99b-43ab-9a05-d52e36b8aa84
X-WR-CALDESC:Ever wondered what the all the Zumba buzz is about? Here's you
 r chance to find out with a two-day Zumba Event tailored specifically for 
 students with multiple sclerosis. Brynn Adamson leads these in-person sess
 ions at the MSA headquarters while simultaneously Zooming to anyone joinin
 g from home. Guaranteed to leave you smiling\, these Latin-rhythm classes 
 will be like nothing you've ever tried!
X-WR-RELCALID:f9a4bfb5ad6dd2a81a6b26533b587248
X-WR-TIMEZONE:America/Denver
BEGIN:VTIMEZONE
TZID:America/Denver
BEGIN:STANDARD
TZNAME:MST
DTSTART:20221106T020000
TZOFFSETFROM:-0600
TZOFFSETTO:-0700
RDATE:20231105T020000
RDATE:20241103T020000
END:STANDARD
BEGIN:DAYLIGHT
TZNAME:MDT
DTSTART:20230312T020000
TZOFFSETFROM:-0700
TZOFFSETTO:-0600
RDATE:20240310T020000
RDATE:20250309T020000
END:DAYLIGHT
END:VTIMEZONE
BEGIN:VEVENT
UID:387c5356-8d73-4b3e-85c3-5acc44b8f11b
DTSTAMP:20260419T171756Z
DESCRIPTION:Ever wondered what the all the Zumba buzz is about? Here's your
  chance to find out with a two-day Zumba Event tailored specifically for s
 tudents with multiple sclerosis. Brynn Adamson leads these in-person sessi
 ons at the MSA headquarters while simultaneously Zooming to anyone joining
  from home. Guaranteed to leave you smiling\, these Latin-rhythm classes w
 ill be like nothing you've ever tried!
DTSTART;TZID=America/Denver:20230914T121500
DTEND;TZID=America/Denver:20230914T131500
LOCATION:Multiple Sclerosis Alliance of Southern Colorado\, 7011 Campus Dri
 ve\, Colorado Springs\, CO 80920 US
SUMMARY:Zumba with Brynn
END:VEVENT
END:VCALENDAR
