BEGIN:VCALENDAR
VERSION:2.0
PRODID:-//msasoco.org//NONSGML kigkonsult.se iCalcreator 2.30.10//
CALSCALE:GREGORIAN
METHOD:PUBLISH
UID:2a8d0ee3-db84-4f5b-92db-65d9b90d6861
X-WR-CALDESC:No Pain\, All Gain! Patty  prepared a yoga class specific to t
 he needs and limitations of those with MS. We were able to enjoy all the b
 enefits and relaxation yoga has to offer without hesitating before every p
 ose. In addition to today's class tips\, Patty assembled a list of website
 s that she regularly recommends on a wide range of movement-related topics
 . Click on Patty's Tips below to view both handouts.
X-WR-RELCALID:0daa0f7cbcaaf309854c5308f938f71f
X-WR-TIMEZONE:America/Denver
BEGIN:VTIMEZONE
TZID:America/Denver
BEGIN:STANDARD
TZNAME:MST
DTSTART:20221106T020000
TZOFFSETFROM:-0600
TZOFFSETTO:-0700
RDATE:20231105T020000
RDATE:20241103T020000
END:STANDARD
BEGIN:DAYLIGHT
TZNAME:MDT
DTSTART:20230312T020000
TZOFFSETFROM:-0700
TZOFFSETTO:-0600
RDATE:20240310T020000
RDATE:20250309T020000
END:DAYLIGHT
END:VTIMEZONE
BEGIN:VEVENT
UID:d93bc17a-3d1d-45f4-899f-b3cb21950545
DTSTAMP:20260425T144522Z
DESCRIPTION:No Pain\, All Gain! Patty  prepared a yoga class specific to th
 e needs and limitations of those with MS. We were able to enjoy all the be
 nefits and relaxation yoga has to offer without hesitating before every po
 se. In addition to today's class tips\, Patty assembled a list of websites
  that she regularly recommends on a wide range of movement-related topics.
  Click on Patty's Tips below to view both handouts.
DTSTART;TZID=America/Denver:20230920T133000
DTEND;TZID=America/Denver:20230920T143000
LOCATION:
SUMMARY:PT with Patty Adaptive Yoga
END:VEVENT
END:VCALENDAR
