BEGIN:VCALENDAR
VERSION:2.0
PRODID:-//msasoco.org//NONSGML kigkonsult.se iCalcreator 2.30.10//
CALSCALE:GREGORIAN
METHOD:PUBLISH
UID:ce8b63e2-c96a-4794-9711-995b16ba8932
X-WR-CALDESC:No Pain\, All Gain! Patty prepared a yoga class specific to th
 e needs and limitations of those with MS. We enjoyed all the benefits and 
 relaxation yoga has to offer without hesitating before every pose. In addi
 tion to today's class tips\, Patty assembled a list of websites that she r
 egularly recommends on a wide range of movement-related topics. Click on P
 atty's Tips below to view both handouts. Technical difficulties prevented 
 the recording of this session\, however the session from Colorado Springs 
 on 9/20 is available for viewing below.
X-WR-RELCALID:4f006a79d78a1317ad3e767fb8e44097
X-WR-TIMEZONE:America/Denver
BEGIN:VTIMEZONE
TZID:America/Denver
BEGIN:STANDARD
TZNAME:MST
DTSTART:20221106T020000
TZOFFSETFROM:-0600
TZOFFSETTO:-0700
RDATE:20231105T020000
RDATE:20241103T020000
END:STANDARD
BEGIN:DAYLIGHT
TZNAME:MDT
DTSTART:20230312T020000
TZOFFSETFROM:-0700
TZOFFSETTO:-0600
RDATE:20240310T020000
RDATE:20250309T020000
END:DAYLIGHT
END:VTIMEZONE
BEGIN:VEVENT
UID:634a4620-d860-4fb1-b16d-c569b599275f
DTSTAMP:20260425T144659Z
DESCRIPTION:No Pain\, All Gain! Patty prepared a yoga class specific to the
  needs and limitations of those with MS. We enjoyed all the benefits and r
 elaxation yoga has to offer without hesitating before every pose. In addit
 ion to today's class tips\, Patty assembled a list of websites that she re
 gularly recommends on a wide range of movement-related topics. Click on Pa
 tty's Tips below to view both handouts. Technical difficulties prevented t
 he recording of this session\, however the session from Colorado Springs o
 n 9/20 is available for viewing below.
DTSTART;TZID=America/Denver:20230921T110000
DTEND;TZID=America/Denver:20230921T120000
LOCATION:Center Toward Self Reliance\, 901 West 8th Street\, Pueblo\, CO 81
 003 US
SUMMARY:PT with Patty in Pueblo
END:VEVENT
END:VCALENDAR
