BEGIN:VCALENDAR
VERSION:2.0
PRODID:-//msasoco.org//NONSGML kigkonsult.se iCalcreator 2.30.10//
CALSCALE:GREGORIAN
METHOD:PUBLISH
UID:9743dd93-3a7d-406c-9217-b6e0e3605d1c
X-WR-CALDESC:Ah the Holidays. That wonderful time between Thanksgiving and 
 New Years when love is expressed with delicious offerings fresh from the o
 ven. You CAN SAY YES and still survive the season! Janice shared a variety
  of inexpensive 'food hacks' to make quick\, easy meals that are nutritiou
 s\, flavorful\, and filling. These hacks can keep you in balance and in go
 od health between the high-temptation foods you will want to enjoy through
 out the holidays. As Janice reminds us\, there is no one perfect way to ea
 t\, and culture and tradition are important components of a healthy life. 
 So enjoy your holiday foods\, then add some of Janice's food hacks to your
  lineup to keep things in balance. Click on the video link below to enjoy 
 this wonderful\, heartwarming session\, and check out two of Janice's favo
 rite 'brownie' recipes!
X-WR-RELCALID:e1dfd3602300b55eb9744e436b35991a
X-WR-TIMEZONE:America/Denver
BEGIN:VTIMEZONE
TZID:America/Denver
BEGIN:STANDARD
TZNAME:MST
DTSTART:20231105T020000
TZOFFSETFROM:-0600
TZOFFSETTO:-0700
RDATE:20241103T020000
END:STANDARD
BEGIN:DAYLIGHT
TZNAME:MDT
DTSTART:20230312T020000
TZOFFSETFROM:-0700
TZOFFSETTO:-0600
RDATE:20240310T020000
RDATE:20250309T020000
END:DAYLIGHT
END:VTIMEZONE
BEGIN:VEVENT
UID:e635c14e-a853-4493-bfdd-b2268900a92e
DTSTAMP:20260425T144532Z
DESCRIPTION:Ah the Holidays. That wonderful time between Thanksgiving and N
 ew Years when love is expressed with delicious offerings fresh from the ov
 en. You CAN SAY YES and still survive the season! Janice shared a variety 
 of inexpensive 'food hacks' to make quick\, easy meals that are nutritious
 \, flavorful\, and filling. These hacks can keep you in balance and in goo
 d health between the high-temptation foods you will want to enjoy througho
 ut the holidays. As Janice reminds us\, there is no one perfect way to eat
 \, and culture and tradition are important components of a healthy life. S
 o enjoy your holiday foods\, then add some of Janice's food hacks to your 
 lineup to keep things in balance. Click on the video link below to enjoy t
 his wonderful\, heartwarming session\, and check out two of Janice's favor
 ite 'brownie' recipes!
DTSTART;TZID=America/Denver:20231115T110000
DTEND;TZID=America/Denver:20231115T120000
LOCATION:
SUMMARY:Follow-up for the Holidays
END:VEVENT
END:VCALENDAR
