BEGIN:VCALENDAR
VERSION:2.0
PRODID:-//msasoco.org//NONSGML kigkonsult.se iCalcreator 2.30.10//
CALSCALE:GREGORIAN
METHOD:PUBLISH
UID:71103df0-ecc1-49ff-84ea-79bcd245d43b
X-WR-CALDESC:For the third straight year\, the Salvation Army will be deliv
 ering meals to our clients on Thanksgiving. These hot\, high-quality meals
  are appreciated more than the Salvation Army could possibly imagine. Than
 k you so much\, Salvation Army\, and thank you to everyone who supports th
 em! To get on the meal list for 2024\, contact the MSA office!
X-WR-RELCALID:d8166a7fe11b673e01201ba3c90cde76
X-WR-TIMEZONE:America/Denver
BEGIN:VTIMEZONE
TZID:America/Denver
BEGIN:STANDARD
TZNAME:MST
DTSTART:20231105T020000
TZOFFSETFROM:-0600
TZOFFSETTO:-0700
RDATE:20241103T020000
END:STANDARD
BEGIN:DAYLIGHT
TZNAME:MDT
DTSTART:20230312T020000
TZOFFSETFROM:-0700
TZOFFSETTO:-0600
RDATE:20240310T020000
RDATE:20250309T020000
END:DAYLIGHT
END:VTIMEZONE
BEGIN:VEVENT
UID:e38d4bf9-a8f2-4099-b5b6-041ba1d3bebe
DTSTAMP:20260425T150413Z
DESCRIPTION:For the third straight year\, the Salvation Army will be delive
 ring meals to our clients on Thanksgiving. These hot\, high-quality meals 
 are appreciated more than the Salvation Army could possibly imagine. Thank
  you so much\, Salvation Army\, and thank you to everyone who supports the
 m! To get on the meal list for 2024\, contact the MSA office!
DTSTART;TZID=America/Denver:20231123T173000
DTEND;TZID=America/Denver:20231123T183000
LOCATION:
SUMMARY:T-day Meals Delivered by Salvation Army!
END:VEVENT
END:VCALENDAR
