BEGIN:VCALENDAR
VERSION:2.0
PRODID:-//msasoco.org//NONSGML kigkonsult.se iCalcreator 2.30.10//
CALSCALE:GREGORIAN
METHOD:PUBLISH
UID:d8a46520-3db4-4ddc-ae4e-62382a14e754
X-WR-CALDESC:Following the advance questions and interests of today's parti
 cipants\, Janice launched into a fabulous conversation on diabetes and blo
 od sugar regulation. She offered a handout (available below for download) 
 called\, The 42 Factors That Affect Blood Glucose. Among the simple and ey
 e-opening interventions she offered were light strength training and good 
 oral hygiene! Who would have thought?! Enjoy Janice's entire program of do
 wn-home and easy-to-follow advice\, and stay through to the end for a fasc
 inating discussion about the liver.
X-WR-RELCALID:ab376b403d695a1b6631c80f78bf06c0
X-WR-TIMEZONE:America/Denver
BEGIN:VTIMEZONE
TZID:America/Denver
BEGIN:STANDARD
TZNAME:MST
DTSTART:20231105T020000
TZOFFSETFROM:-0600
TZOFFSETTO:-0700
RDATE:20241103T020000
END:STANDARD
BEGIN:DAYLIGHT
TZNAME:MDT
DTSTART:20230312T020000
TZOFFSETFROM:-0700
TZOFFSETTO:-0600
RDATE:20240310T020000
RDATE:20250309T020000
END:DAYLIGHT
END:VTIMEZONE
BEGIN:VEVENT
UID:44d04348-31f5-4b77-ba58-c41753d81c2d
DTSTAMP:20260425T144600Z
DESCRIPTION:Following the advance questions and interests of today's partic
 ipants\, Janice launched into a fabulous conversation on diabetes and bloo
 d sugar regulation. She offered a handout (available below for download) c
 alled\, The 42 Factors That Affect Blood Glucose. Among the simple and eye
 -opening interventions she offered were light strength training and good o
 ral hygiene! Who would have thought?! Enjoy Janice's entire program of dow
 n-home and easy-to-follow advice\, and stay through to the end for a fasci
 nating discussion about the liver.
DTSTART;TZID=America/Denver:20240306T110000
DTEND;TZID=America/Denver:20240306T120000
LOCATION:MSASOCO\, 7011 Campus Drive\, COLORADO SPRINGS\, CO 80920 US
SUMMARY:It's Your Lucky Day\, with Janice Baker!
END:VEVENT
END:VCALENDAR
