BEGIN:VCALENDAR
VERSION:2.0
PRODID:-//msasoco.org//NONSGML kigkonsult.se iCalcreator 2.30.10//
CALSCALE:GREGORIAN
METHOD:PUBLISH
UID:7a970926-0254-4031-ac8c-aabab0098062
X-WR-CALDESC:Do they make these programs confusing on purpose? It sure seem
 s that way! But don't worry\, the MSA has your back. Melanie Hendrickson o
 f the Pikes Peak Area Agency on Aging gave us a rundown on the programs av
 ailable and how Medicaid can team up with Medicare to provide more benefit
 s and cover more costs in a way most people don't know about. This is a co
 mplex topic\, and we recommend watching the video twice -- once to get an 
 overview\, and once to drill down on the topics that truly affect you. Han
 douts were left at the MSA offices for you to pick up. We also hope to obt
 ain electronic copies to have available for download here.
X-WR-RELCALID:43228e051db4154e61cbdc56072aab0b
X-WR-TIMEZONE:America/Denver
BEGIN:VTIMEZONE
TZID:America/Denver
BEGIN:STANDARD
TZNAME:MST
DTSTART:20231105T020000
TZOFFSETFROM:-0600
TZOFFSETTO:-0700
RDATE:20241103T020000
END:STANDARD
BEGIN:DAYLIGHT
TZNAME:MDT
DTSTART:20240310T020000
TZOFFSETFROM:-0700
TZOFFSETTO:-0600
RDATE:20250309T020000
END:DAYLIGHT
END:VTIMEZONE
BEGIN:VEVENT
UID:7f44cff7-9d30-4a34-be6d-81acb028c1e0
DTSTAMP:20260425T150057Z
DESCRIPTION:Do they make these programs confusing on purpose? It sure seems
  that way! But don't worry\, the MSA has your back. Melanie Hendrickson of
  the Pikes Peak Area Agency on Aging gave us a rundown on the programs ava
 ilable and how Medicaid can team up with Medicare to provide more benefits
  and cover more costs in a way most people don't know about. This is a com
 plex topic\, and we recommend watching the video twice -- once to get an o
 verview\, and once to drill down on the topics that truly affect you. Hand
 outs were left at the MSA offices for you to pick up. We also hope to obta
 in electronic copies to have available for download here.
DTSTART;TZID=America/Denver:20240320T110000
DTEND;TZID=America/Denver:20240320T120000
LOCATION:MSASOCO Offices and Online\, 7011 Campus Drive\, Colorado Springs\
 , CO 80920 US
SUMMARY:Get Clarity on Medicare and Medicaid
END:VEVENT
END:VCALENDAR
