BEGIN:VCALENDAR
VERSION:2.0
PRODID:-//msasoco.org//NONSGML kigkonsult.se iCalcreator 2.30.10//
CALSCALE:GREGORIAN
METHOD:PUBLISH
UID:fc70245f-b59c-4164-84c9-0e41f28dc5ae
X-WR-CALDESC:The MSA's favorite dietitian\, Janice Baker\, returns to dedic
 ate a full hour of discussion on women's health. Let's face it - Women are
  different\; our needs are different\, and the signs and symptoms of vario
 us health issues can be dramatically different from those of men. The more
  in tune we can be with our bodies\, the better our outcomes will be\, bot
 h short- and long-term. Gentlemen\, you are warmly invited to attend. This
  is a great opportunity for you to learn about the health issues that the 
 women in your life may be overlooking!
X-WR-RELCALID:a0f08f048029b8e702c0b4fe8a9ac21a
X-WR-TIMEZONE:America/Denver
BEGIN:VTIMEZONE
TZID:America/Denver
BEGIN:STANDARD
TZNAME:MST
DTSTART:20231105T020000
TZOFFSETFROM:-0600
TZOFFSETTO:-0700
RDATE:20241103T020000
RDATE:20251102T020000
END:STANDARD
BEGIN:DAYLIGHT
TZNAME:MDT
DTSTART:20240310T020000
TZOFFSETFROM:-0700
TZOFFSETTO:-0600
RDATE:20250309T020000
END:DAYLIGHT
END:VTIMEZONE
BEGIN:VEVENT
UID:50bd0092-9e81-474c-8219-556037ae2c4f
DTSTAMP:20260425T150530Z
DESCRIPTION:The MSA's favorite dietitian\, Janice Baker\, returns to dedica
 te a full hour of discussion on women's health. Let's face it - Women are 
 different\; our needs are different\, and the signs and symptoms of variou
 s health issues can be dramatically different from those of men. The more 
 in tune we can be with our bodies\, the better our outcomes will be\, both
  short- and long-term. Gentlemen\, you are warmly invited to attend. This 
 is a great opportunity for you to learn about the health issues that the w
 omen in your life may be overlooking!
DTSTART;TZID=America/Denver:20240508T110000
DTEND;TZID=America/Denver:20240508T120000
LOCATION:Call the MSA office for a Zoom link to this event!
SUMMARY:Bloom in your Women's Wellness with Janice Baker
END:VEVENT
END:VCALENDAR
