BEGIN:VCALENDAR
VERSION:2.0
PRODID:-//msasoco.org//NONSGML kigkonsult.se iCalcreator 2.30.10//
CALSCALE:GREGORIAN
METHOD:PUBLISH
UID:c2fe8496-c464-4edb-b479-83a279277916
X-WR-CALDESC:What would you give to have that deep\, yummy\, restorative sl
 eep that you once enjoyed as a child? It's not a pipe-dream - it can be yo
 urs again\, and Christina from The Key\, the Colorado-Springs based Home C
 are Assistance agency\, stopped by to share how. If you were unable to joi
 n us for this special in-person/over Zoom hybrid event\, you can click thr
 ough below to view the session video. Blankies and pacifiers are optional.
X-WR-RELCALID:d4d37f25ed1916d5cb773f1c5a52f6ca
X-WR-TIMEZONE:America/Denver
BEGIN:VTIMEZONE
TZID:America/Denver
BEGIN:STANDARD
TZNAME:MST
DTSTART:20231105T020000
TZOFFSETFROM:-0600
TZOFFSETTO:-0700
RDATE:20241103T020000
RDATE:20251102T020000
END:STANDARD
BEGIN:DAYLIGHT
TZNAME:MDT
DTSTART:20240310T020000
TZOFFSETFROM:-0700
TZOFFSETTO:-0600
RDATE:20250309T020000
END:DAYLIGHT
END:VTIMEZONE
BEGIN:VEVENT
UID:e6ed508a-8400-4dad-8839-db1db1c0a1c9
DTSTAMP:20260425T144431Z
DESCRIPTION:What would you give to have that deep\, yummy\, restorative sle
 ep that you once enjoyed as a child? It's not a pipe-dream - it can be you
 rs again\, and Christina from The Key\, the Colorado-Springs based Home Ca
 re Assistance agency\, stopped by to share how. If you were unable to join
  us for this special in-person/over Zoom hybrid event\, you can click thro
 ugh below to view the session video. Blankies and pacifiers are optional.
DTSTART;TZID=America/Denver:20240522T110000
DTEND;TZID=America/Denver:20240522T120000
LOCATION:MSASOCO\, 7011 Campus Drive\, COLORADO SPRINGS\, CO 80920 US
SUMMARY:Sleep Well Presentation by The Key
END:VEVENT
END:VCALENDAR
