BEGIN:VCALENDAR
VERSION:2.0
PRODID:-//msasoco.org//NONSGML kigkonsult.se iCalcreator 2.30.10//
CALSCALE:GREGORIAN
METHOD:PUBLISH
UID:94ca4caa-3828-4c01-adb3-fcaa723eddd2
X-WR-CALDESC:Sick of the heat? Come chill with us at the Ed Robson Arena an
 d enjoy the amazing (elderly) athletic prowess of our own Geezer hockey te
 ams. There will be prizes\, a raffle\, and the opportunity to bid on a cap
 tivating array of auction items! This will be the rockin'est\, sockin'est\
 , fastest-paced fundraiser of the summer!
X-WR-RELCALID:38ea42b3e7f0d17e84892ac6179e2953
X-WR-TIMEZONE:America/Denver
BEGIN:VTIMEZONE
TZID:America/Denver
BEGIN:STANDARD
TZNAME:MST
DTSTART:20231105T020000
TZOFFSETFROM:-0600
TZOFFSETTO:-0700
RDATE:20241103T020000
RDATE:20251102T020000
END:STANDARD
BEGIN:DAYLIGHT
TZNAME:MDT
DTSTART:20240310T020000
TZOFFSETFROM:-0700
TZOFFSETTO:-0600
RDATE:20250309T020000
END:DAYLIGHT
END:VTIMEZONE
BEGIN:VEVENT
UID:ffad9da8-fae8-4df8-941b-66281377a6a2
DTSTAMP:20260425T145812Z
DESCRIPTION:Sick of the heat? Come chill with us at the Ed Robson Arena and
  enjoy the amazing (elderly) athletic prowess of our own Geezer hockey tea
 ms. There will be prizes\, a raffle\, and the opportunity to bid on a capt
 ivating array of auction items! This will be the rockin'est\, sockin'est\,
  fastest-paced fundraiser of the summer!
DTSTART;TZID=America/Denver:20240713T100000
DTEND;TZID=America/Denver:20240713T140000
LOCATION:Ed Robson Arena at Colorado College\, 849 N Tejon St\, Colorado Sp
 rings\, CO 80903 US
SUMMARY:12th Annual Old Geezer Hockey Game and Fundraiser
END:VEVENT
END:VCALENDAR
