BEGIN:VCALENDAR
VERSION:2.0
PRODID:-//msasoco.org//NONSGML kigkonsult.se iCalcreator 2.30.10//
CALSCALE:GREGORIAN
METHOD:PUBLISH
UID:75e81746-1052-4b8e-a86b-8472bf5d6a04
X-WR-CALDESC:Today's meeting will be held over Zoom only! Please call ahead
  to receive a Zoom link! Join us in Pueblo\, on the first and third Thursd
 ays of the month\, at 11:00am for a fresh dose of support and encouragemen
 t! Facilitated by Kathy Bracket\, this group is Puebloan-real\, addressing
  issues that face those of us in Pueblo.
X-WR-RELCALID:f2cb1980b3d9af98b17f63645ccd26e2
X-WR-TIMEZONE:America/Denver
BEGIN:VTIMEZONE
TZID:America/Denver
BEGIN:STANDARD
TZNAME:MST
DTSTART:20241103T020000
TZOFFSETFROM:-0600
TZOFFSETTO:-0700
RDATE:20251102T020000
END:STANDARD
BEGIN:DAYLIGHT
TZNAME:MDT
DTSTART:20240310T020000
TZOFFSETFROM:-0700
TZOFFSETTO:-0600
RDATE:20250309T020000
RDATE:20260308T020000
END:DAYLIGHT
END:VTIMEZONE
BEGIN:VEVENT
UID:83108148-b39d-4142-b2fc-c103a2245eb7
DTSTAMP:20260421T075005Z
DESCRIPTION:Today's meeting will be held over Zoom only! Please call ahead 
 to receive a Zoom link! Join us in Pueblo\, on the first and third Thursda
 ys of the month\, at 11:00am for a fresh dose of support and encouragement
 ! Facilitated by Kathy Bracket\, this group is Puebloan-real\, addressing 
 issues that face those of us in Pueblo.
DTSTART;TZID=America/Denver:20241219T110000
DTEND;TZID=America/Denver:20241219T120000
LOCATION:Meeting over Zoom today
SUMMARY:Pueblo Support Group
END:VEVENT
END:VCALENDAR
