BEGIN:VCALENDAR
VERSION:2.0
PRODID:-//msasoco.org//NONSGML kigkonsult.se iCalcreator 2.30.10//
CALSCALE:GREGORIAN
METHOD:PUBLISH
UID:aacf8a8e-c787-4c54-be6b-4e3d411adada
X-WR-CALDESC:MSA's favorite Dietitian returned for a fascinating two-part s
 eries! Janice Baker discussed the latest in nutrition and strength\, and h
 ow to better support our metabolic health. Plus\, did you know there was a
  connection between our mental and emotional strength? There is! And what 
 you eat can help you make decisive improvements in both! Look for the link
 s to the videos of these events which should be posted soon
X-WR-RELCALID:06a752e08140fa2665fad51910d1f9e2
X-WR-TIMEZONE:America/Denver
BEGIN:VTIMEZONE
TZID:America/Denver
BEGIN:STANDARD
TZNAME:MST
DTSTART:20241103T020000
TZOFFSETFROM:-0600
TZOFFSETTO:-0700
RDATE:20251102T020000
END:STANDARD
BEGIN:DAYLIGHT
TZNAME:MDT
DTSTART:20240310T020000
TZOFFSETFROM:-0700
TZOFFSETTO:-0600
RDATE:20250309T020000
RDATE:20260308T020000
END:DAYLIGHT
END:VTIMEZONE
BEGIN:VEVENT
UID:188c5977-07ac-4736-948f-958953db1585
DTSTAMP:20260425T144844Z
DESCRIPTION:MSA's favorite Dietitian returned for a fascinating two-part se
 ries! Janice Baker discussed the latest in nutrition and strength\, and ho
 w to better support our metabolic health. Plus\, did you know there was a 
 connection between our mental and emotional strength? There is! And what y
 ou eat can help you make decisive improvements in both! Look for the links
  to the videos of these events which should be posted soon
DTSTART;TZID=America/Denver:20250212T120000
DTEND;TZID=America/Denver:20250212T130000
LOCATION:via Zoom. Contact the office for a Zoom link.
SUMMARY:Strength from the Inside Out  Part 1 with Janice Baker
END:VEVENT
END:VCALENDAR
