BEGIN:VCALENDAR
VERSION:2.0
PRODID:-//msasoco.org//NONSGML kigkonsult.se iCalcreator 2.30.10//
CALSCALE:GREGORIAN
METHOD:PUBLISH
UID:cc8ddaa8-9d25-4814-af1b-4cedbfee99fa
X-WR-CALDESC:Christen Kutz\, PhD\, PA-C\, joined us to talk all things Neur
 ology\, and to introduce us to Colorado Neurological Clinic. The practice 
 has offices in Castle Rock\, Parker\, Inglewood and Denver\, and with Chri
 sten's help\, just opened an office in Colorado Springs. Christen anticipa
 tes this office being highly MS-friendly. Christen has long been one of th
 e MSA's favorite guest-speakers. Today's session was so well-attended that
  it's a bit difficult to see Christen through the crowd as she speaks\, bu
 t we are happy to note that she can be clearly heard on the below-linked v
 ideo.
X-WR-RELCALID:d171236697714979d458241bd61d8663
X-WR-TIMEZONE:America/Denver
BEGIN:VTIMEZONE
TZID:America/Denver
BEGIN:STANDARD
TZNAME:MST
DTSTART:20241103T020000
TZOFFSETFROM:-0600
TZOFFSETTO:-0700
RDATE:20251102T020000
END:STANDARD
BEGIN:DAYLIGHT
TZNAME:MDT
DTSTART:20250309T020000
TZOFFSETFROM:-0700
TZOFFSETTO:-0600
RDATE:20260308T020000
END:DAYLIGHT
END:VTIMEZONE
BEGIN:VEVENT
UID:781be20d-69a7-4c7a-92c5-2a937f904007
DTSTAMP:20260425T144950Z
DESCRIPTION:Christen Kutz\, PhD\, PA-C\, joined us to talk all things Neuro
 logy\, and to introduce us to Colorado Neurological Clinic. The practice h
 as offices in Castle Rock\, Parker\, Inglewood and Denver\, and with Chris
 ten's help\, just opened an office in Colorado Springs. Christen anticipat
 es this office being highly MS-friendly. Christen has long been one of the
  MSA's favorite guest-speakers. Today's session was so well-attended that 
 it's a bit difficult to see Christen through the crowd as she speaks\, but
  we are happy to note that she can be clearly heard on the below-linked vi
 deo.
DTSTART;TZID=America/Denver:20250312T143000
DTEND;TZID=America/Denver:20250312T153000
LOCATION:MSASOCO Offices and Online\, 7011 Campus Drive\, Colorado Springs\
 , AL 80920 US
SUMMARY:Neuro Logics with Christen Kutz
END:VEVENT
END:VCALENDAR
