BEGIN:VCALENDAR
VERSION:2.0
PRODID:-//msasoco.org//NONSGML kigkonsult.se iCalcreator 2.30.10//
CALSCALE:GREGORIAN
METHOD:PUBLISH
UID:d27666e9-6383-4ee7-acd5-798c39d98507
X-WR-CALDESC:We're excited to welcome back Ryan Mueller of Neuro Logic Reha
 bilitation! In this two-part series\, he will be discussing easy-but-power
 ful basic exercises that help minimize the effects of MS. Join us in-perso
 n or over zoom and get ready to take back control of your symptoms!
X-WR-RELCALID:815f0949f7f9a9eb0de04efb90405601
X-WR-TIMEZONE:America/Denver
BEGIN:VTIMEZONE
TZID:America/Denver
BEGIN:STANDARD
TZNAME:MST
DTSTART:20241103T020000
TZOFFSETFROM:-0600
TZOFFSETTO:-0700
RDATE:20251102T020000
RDATE:20261101T020000
END:STANDARD
BEGIN:DAYLIGHT
TZNAME:MDT
DTSTART:20250309T020000
TZOFFSETFROM:-0700
TZOFFSETTO:-0600
RDATE:20260308T020000
END:DAYLIGHT
END:VTIMEZONE
BEGIN:VEVENT
UID:61122006-5b04-4b35-8278-7944c02d5767
DTSTAMP:20260425T144553Z
DESCRIPTION:We're excited to welcome back Ryan Mueller of Neuro Logic Rehab
 ilitation! In this two-part series\, he will be discussing easy-but-powerf
 ul basic exercises that help minimize the effects of MS. Join us in-person
  or over zoom and get ready to take back control of your symptoms!
DTSTART;TZID=America/Denver:20250514T110000
DTEND;TZID=America/Denver:20250514T120000
LOCATION:MSASOCO\, 7011 Campus Drive\, COLORADO SPRINGS\, CO 80920 US
SUMMARY:The Basics with Ryan Mueller
END:VEVENT
END:VCALENDAR
