BEGIN:VCALENDAR
VERSION:2.0
PRODID:-//msasoco.org//NONSGML kigkonsult.se iCalcreator 2.30.10//
CALSCALE:GREGORIAN
METHOD:PUBLISH
UID:9e88778f-0da1-448a-bd95-c9ce25121250
X-WR-CALDESC:MAVENCLAD is hosting a lunch and learn event featuring MS Spec
 ialist Williams Shaffer\, MD\, of Associated Neurologists. Come enjoy mid-
 day break with your MSA friends and a lovely meal at Biaggi's Ristorante I
 taliano. We'll be learning about MAVENCLAD\, an oral treatment option for 
 relapsing MS with a unique dosing. If you've never been to a MAVENCLAD eve
 nt\, here's your chance. Call the MSA office\, or use the link below to re
 serve your spot online. Seats are always limited at these events\, so act 
 soon.
X-WR-RELCALID:d65a2d7a3ad3748e82862ff1aa3d320f
X-WR-TIMEZONE:America/Denver
BEGIN:VTIMEZONE
TZID:America/Denver
BEGIN:STANDARD
TZNAME:MST
DTSTART:20241103T020000
TZOFFSETFROM:-0600
TZOFFSETTO:-0700
RDATE:20251102T020000
RDATE:20261101T020000
END:STANDARD
BEGIN:DAYLIGHT
TZNAME:MDT
DTSTART:20250309T020000
TZOFFSETFROM:-0700
TZOFFSETTO:-0600
RDATE:20260308T020000
END:DAYLIGHT
END:VTIMEZONE
BEGIN:VEVENT
UID:e4541e11-5d82-4584-96c7-4f72ce73e020
DTSTAMP:20260425T144431Z
DESCRIPTION:MAVENCLAD is hosting a lunch and learn event featuring MS Speci
 alist Williams Shaffer\, MD\, of Associated Neurologists. Come enjoy mid-d
 ay break with your MSA friends and a lovely meal at Biaggi's Ristorante It
 aliano. We'll be learning about MAVENCLAD\, an oral treatment option for r
 elapsing MS with a unique dosing. If you've never been to a MAVENCLAD even
 t\, here's your chance. Call the MSA office\, or use the link below to res
 erve your spot online. Seats are always limited at these events\, so act s
 oon.
DTSTART;TZID=America/Denver:20250516T120000
DTEND;TZID=America/Denver:20250516T130000
LOCATION:Biaggi's Ristorante Italiano\, 1805 Briargate Parkway\, Colorado S
 prings\, CO 80920 US
SUMMARY:MAVENCLAD Lunch Event
END:VEVENT
END:VCALENDAR
