BEGIN:VCALENDAR
VERSION:2.0
PRODID:-//msasoco.org//NONSGML kigkonsult.se iCalcreator 2.30.10//
CALSCALE:GREGORIAN
METHOD:PUBLISH
UID:997d3ced-1cf6-4346-9ae1-4c8d7469d984
X-WR-CALDESC:If you're curious about NeuroPong\, you're not alone.  This UC
  Health-endorsed program is sweeping the globe and winning new converts ev
 ery day. Dr. Antonio Barbera discovered the amazing effects of ping pong o
 n neuro-degenerative disorders after his own MS had forced the physician i
 nto early retirement. One afternoon\, after playing ping pong with friends
 \, Dr. Barbera found his MS symptoms dramatically diminished. Now you have
  the opportunity to hear Dr. Barbera himself talk about the program he sub
 sequently developed\, and about the thousands of people his program has he
 lped. This is a one-day only event and is expected to draw a large crowd. 
 Call the office to ensure your seat today!
X-WR-RELCALID:42d6fff71b2e6fbb5f377c6a6945c9da
X-WR-TIMEZONE:America/Denver
BEGIN:VTIMEZONE
TZID:America/Denver
BEGIN:STANDARD
TZNAME:MST
DTSTART:20241103T020000
TZOFFSETFROM:-0600
TZOFFSETTO:-0700
RDATE:20251102T020000
RDATE:20261101T020000
END:STANDARD
BEGIN:DAYLIGHT
TZNAME:MDT
DTSTART:20250309T020000
TZOFFSETFROM:-0700
TZOFFSETTO:-0600
RDATE:20260308T020000
END:DAYLIGHT
END:VTIMEZONE
BEGIN:VEVENT
UID:c0ec28fa-47d5-430c-ba92-dab49630a086
DTSTAMP:20260425T144659Z
DESCRIPTION:If you're curious about NeuroPong\, you're not alone.  This UC 
 Health-endorsed program is sweeping the globe and winning new converts eve
 ry day. Dr. Antonio Barbera discovered the amazing effects of ping pong on
  neuro-degenerative disorders after his own MS had forced the physician in
 to early retirement. One afternoon\, after playing ping pong with friends\
 , Dr. Barbera found his MS symptoms dramatically diminished. Now you have 
 the opportunity to hear Dr. Barbera himself talk about the program he subs
 equently developed\, and about the thousands of people his program has hel
 ped. This is a one-day only event and is expected to draw a large crowd. C
 all the office to ensure your seat today!
DTSTART;TZID=America/Denver:20250517T040000
DTEND;TZID=America/Denver:20250517T040001
LOCATION:Monument Presbyterian Church\, 238 Third Street\, Monument\, CO 80
 132 US
SUMMARY:Dr. Antonio Barbera Presents NeuroPong
END:VEVENT
END:VCALENDAR
