BEGIN:VCALENDAR
VERSION:2.0
PRODID:-//msasoco.org//NONSGML kigkonsult.se iCalcreator 2.30.10//
CALSCALE:GREGORIAN
METHOD:PUBLISH
UID:0ec9ec31-5926-4726-a352-cd789ff4f91e
X-WR-CALDESC:Ryan Mueller returns by popular demand for an open-floor discu
 ssion and Q&A. His prior presentations on Neuro Physical Therapy have both
  intrigued and excited our members and created a real desire to learn more
 . Prior attendance is not required to enjoy this Q&A\, but for anyone inte
 rested\, links to Ryan's previous presentations are available below.
X-WR-RELCALID:e828ff5a20ae789e3ad28d884ddbaccd
X-WR-TIMEZONE:America/Denver
BEGIN:VTIMEZONE
TZID:America/Denver
BEGIN:STANDARD
TZNAME:MST
DTSTART:20241103T020000
TZOFFSETFROM:-0600
TZOFFSETTO:-0700
RDATE:20251102T020000
RDATE:20261101T020000
END:STANDARD
BEGIN:DAYLIGHT
TZNAME:MDT
DTSTART:20250309T020000
TZOFFSETFROM:-0700
TZOFFSETTO:-0600
RDATE:20260308T020000
END:DAYLIGHT
END:VTIMEZONE
BEGIN:VEVENT
UID:1a12e523-2b72-45ed-80ed-54c7be8e6301
DTSTAMP:20260425T144303Z
DESCRIPTION:Ryan Mueller returns by popular demand for an open-floor discus
 sion and Q&A. His prior presentations on Neuro Physical Therapy have both 
 intrigued and excited our members and created a real desire to learn more.
  Prior attendance is not required to enjoy this Q&A\, but for anyone inter
 ested\, links to Ryan's previous presentations are available below.
DTSTART;TZID=America/Denver:20250625T110000
DTEND;TZID=America/Denver:20250625T120000
LOCATION:Held both in-person and over zoom.
SUMMARY:Ryan Mueller Q&A
END:VEVENT
END:VCALENDAR
