BEGIN:VCALENDAR
VERSION:2.0
PRODID:-//msasoco.org//NONSGML kigkonsult.se iCalcreator 2.30.10//
CALSCALE:GREGORIAN
METHOD:PUBLISH
UID:5766160f-a528-47d4-a0c9-3998b6e7cd5f
X-WR-CALDESC:In a terrible skydiving accident\, renown adventurer\, Tommy F
 ergerson\, crushed the left side of his body. He suffered 8 broken bones\,
  took 8 stitches across his eye\, and sustained a spinal cord injury from 
 C5 to T1 that would result in a left arm amputation. He had no medical ins
 urance.  It was then\, as he hit rock bottom\, that Tommy Fergerson willed
  himself to look up.       \n\nCome join us for lunch and hear his story a
 s you become inspired like never before!
X-WR-RELCALID:4d0b8f045f3f2c7de30f10e599a33618
X-WR-TIMEZONE:America/Denver
BEGIN:VTIMEZONE
TZID:America/Denver
BEGIN:STANDARD
TZNAME:MST
DTSTART:20241103T020000
TZOFFSETFROM:-0600
TZOFFSETTO:-0700
RDATE:20251102T020000
RDATE:20261101T020000
END:STANDARD
BEGIN:DAYLIGHT
TZNAME:MDT
DTSTART:20250309T020000
TZOFFSETFROM:-0700
TZOFFSETTO:-0600
RDATE:20260308T020000
END:DAYLIGHT
END:VTIMEZONE
BEGIN:VEVENT
UID:6ae28822-8a9e-4835-88ae-8230e549274b
DTSTAMP:20260425T144554Z
DESCRIPTION:In a terrible skydiving accident\, renown adventurer\, Tommy Fe
 rgerson\, crushed the left side of his body. He suffered 8 broken bones\, 
 took 8 stitches across his eye\, and sustained a spinal cord injury from C
 5 to T1 that would result in a left arm amputation. He had no medical insu
 rance.  It was then\, as he hit rock bottom\, that Tommy Fergerson willed 
 himself to look up.       \n\nCome join us for lunch and hear his story as
  you become inspired like never before!
DTSTART;TZID=America/Denver:20250813T110000
DTEND;TZID=America/Denver:20250813T130000
LOCATION:MSASOCO Offices\, 7011 Campus Drive\, Colorado Springs\, AL 80920 
 US
SUMMARY:Motivational Speaker\, Tommy Fergerson
END:VEVENT
END:VCALENDAR
