BEGIN:VCALENDAR
VERSION:2.0
PRODID:-//msasoco.org//NONSGML kigkonsult.se iCalcreator 2.30.10//
CALSCALE:GREGORIAN
METHOD:PUBLISH
UID:0fb2b952-c942-4d15-b027-273ae723dc16
X-WR-CALDESC:'What kind of therapy is right for the issues I'm dealing with
  today?' 'How do I go about finding the right providers?' Ryan Mueller of 
 Neuro Logics Rehabilitation and Wellness returns to answer these questions
  and more. Join us at the MSA offices or over Zoom from the comfort of you
 r own home and get the answers you're looking for.
X-WR-RELCALID:ac523d35c9a7706688cca7797f57504f
X-WR-TIMEZONE:America/Denver
BEGIN:VTIMEZONE
TZID:America/Denver
BEGIN:STANDARD
TZNAME:MST
DTSTART:20241103T020000
TZOFFSETFROM:-0600
TZOFFSETTO:-0700
RDATE:20251102T020000
RDATE:20261101T020000
END:STANDARD
BEGIN:DAYLIGHT
TZNAME:MDT
DTSTART:20250309T020000
TZOFFSETFROM:-0700
TZOFFSETTO:-0600
RDATE:20260308T020000
END:DAYLIGHT
END:VTIMEZONE
BEGIN:VEVENT
UID:a0a2b040-12d6-47d9-b14b-b12ef50b4c09
DTSTAMP:20260425T144601Z
DESCRIPTION:'What kind of therapy is right for the issues I'm dealing with 
 today?' 'How do I go about finding the right providers?' Ryan Mueller of N
 euro Logics Rehabilitation and Wellness returns to answer these questions 
 and more. Join us at the MSA offices or over Zoom from the comfort of your
  own home and get the answers you're looking for.
DTSTART;TZID=America/Denver:20250820T110000
DTEND;TZID=America/Denver:20250820T120000
LOCATION:MSASOCO Offices and Online\, 7011 Campus Drive\, Colorado Springs\
 , AL 80920 US
SUMMARY:Ryan Mueller on Neuro PT - Disciplines/Providers
END:VEVENT
END:VCALENDAR
