BEGIN:VCALENDAR
VERSION:2.0
PRODID:-//msasoco.org//NONSGML kigkonsult.se iCalcreator 2.30.10//
CALSCALE:GREGORIAN
METHOD:PUBLISH
UID:f451ec2d-6aff-4e70-b227-2e672af9a47f
X-WR-CALDESC:Curious about Briumvi? Join us at Biaggi's Ristorante Italiano
  for lunch and an educational talk on this remarkable B-cell therapy for R
 MS that is administered in one hour\, twice per year. Convenient? Yes! Eff
 ective? Also\, yes! Briumvi was proven in two clinical trials to reduce th
 e rate of relapses and active lesions. Come enjoy the company of your MSA 
 friends and leave full of delightful food and knowledge! Seats are limited
 \, so register quickly at the link below or call the office at 719-633-460
 3
X-WR-RELCALID:85efa89aeee891c72be208f3d979fc9d
X-WR-TIMEZONE:America/Denver
BEGIN:VTIMEZONE
TZID:America/Denver
BEGIN:STANDARD
TZNAME:MST
DTSTART:20241103T020000
TZOFFSETFROM:-0600
TZOFFSETTO:-0700
RDATE:20251102T020000
RDATE:20261101T020000
END:STANDARD
BEGIN:DAYLIGHT
TZNAME:MDT
DTSTART:20250309T020000
TZOFFSETFROM:-0700
TZOFFSETTO:-0600
RDATE:20260308T020000
END:DAYLIGHT
END:VTIMEZONE
BEGIN:VEVENT
UID:53b8f059-b297-4381-962b-1a0481e7edae
DTSTAMP:20260425T144247Z
DESCRIPTION:Curious about Briumvi? Join us at Biaggi's Ristorante Italiano 
 for lunch and an educational talk on this remarkable B-cell therapy for RM
 S that is administered in one hour\, twice per year. Convenient? Yes! Effe
 ctive? Also\, yes! Briumvi was proven in two clinical trials to reduce the
  rate of relapses and active lesions. Come enjoy the company of your MSA f
 riends and leave full of delightful food and knowledge! Seats are limited\
 , so register quickly at the link below or call the office at 719-633-4603
DTSTART;TZID=America/Denver:20250904T120000
DTEND;TZID=America/Denver:20250904T130000
LOCATION:Biaggi's Ristorante Italiano\, 1805 Briargate Parkway\, Colorado S
 prings\, AL 80920 US
SUMMARY:Briumvi Lunch & Learn
END:VEVENT
END:VCALENDAR
