BEGIN:VCALENDAR
VERSION:2.0
PRODID:-//msasoco.org//NONSGML kigkonsult.se iCalcreator 2.30.10//
CALSCALE:GREGORIAN
METHOD:PUBLISH
UID:92034497-c473-4695-a62f-f48a14f71d86
X-WR-CALDESC:NEW DATE! Get ready to learn about MAVENCLAD! Join Christen Ku
 tz and your MSA friends for a lovely meal at Hacienda Colorado Restaurant 
 where we’ll enjoy an informative presentation on MAVENCLAD\, an oral treat
 ment option for relapsing MS with a convenient dosing schedule. Space is l
 imited and advance registration is required through the MAVENCLAD website.
  See the link below\, or call the MSA for assistance!
X-WR-RELCALID:ac079ddf5e321dbd89f7c15621444058
X-WR-TIMEZONE:America/Denver
BEGIN:VTIMEZONE
TZID:America/Denver
BEGIN:STANDARD
TZNAME:MST
DTSTART:20241103T020000
TZOFFSETFROM:-0600
TZOFFSETTO:-0700
RDATE:20251102T020000
RDATE:20261101T020000
END:STANDARD
BEGIN:DAYLIGHT
TZNAME:MDT
DTSTART:20250309T020000
TZOFFSETFROM:-0700
TZOFFSETTO:-0600
RDATE:20260308T020000
RDATE:20270314T020000
END:DAYLIGHT
END:VTIMEZONE
BEGIN:VEVENT
UID:d518f54c-e0b3-48cc-85c0-39fc58adbbc3
DTSTAMP:20260425T150658Z
DESCRIPTION:NEW DATE! Get ready to learn about MAVENCLAD! Join Christen Kut
 z and your MSA friends for a lovely meal at Hacienda Colorado Restaurant w
 here we’ll enjoy an informative presentation on MAVENCLAD\, an oral treatm
 ent option for relapsing MS with a convenient dosing schedule. Space is li
 mited and advance registration is required through the MAVENCLAD website. 
 See the link below\, or call the MSA for assistance!
DTSTART;TZID=America/Denver:20250918T170000
DTEND;TZID=America/Denver:20250918T183000
LOCATION:Hacienda Colorado Restaurant\, 5246 N Nevada Avenue\, Colorado Spr
 ings\, AL 80918 US
SUMMARY:MAVENCLAD Dinner Event at Hacienda Colorado
END:VEVENT
END:VCALENDAR
