BEGIN:VCALENDAR
VERSION:2.0
PRODID:-//msasoco.org//NONSGML kigkonsult.se iCalcreator 2.30.10//
CALSCALE:GREGORIAN
METHOD:PUBLISH
UID:ad118c1a-2998-4bf3-b427-17729fd2877c
X-WR-CALDESC:If you've never been to a Milk Shake Factory\, you are in for 
 a treat! Literally! Eye-popping\, gourmet milkshakes\, sundaes and chocola
 tes are sure to make your next 'diet cheat day' absolutely amazing! And on
  Wednesday\, October 1st\, 20% of each purchase could be donated to the MS
 A by merely mentioning our name! Plan your family outing now and spread th
 e word! Charitable giving couldn't get any sweeter than this!
X-WR-RELCALID:2fc62bd03766f21465d30dfc2403fd1a
X-WR-TIMEZONE:America/Denver
BEGIN:VTIMEZONE
TZID:America/Denver
BEGIN:STANDARD
TZNAME:MST
DTSTART:20241103T020000
TZOFFSETFROM:-0600
TZOFFSETTO:-0700
RDATE:20251102T020000
RDATE:20261101T020000
END:STANDARD
BEGIN:DAYLIGHT
TZNAME:MDT
DTSTART:20250309T020000
TZOFFSETFROM:-0700
TZOFFSETTO:-0600
RDATE:20260308T020000
RDATE:20270314T020000
END:DAYLIGHT
END:VTIMEZONE
BEGIN:VEVENT
UID:20f21bff-2151-4a59-a203-8df40070a895
DTSTAMP:20260425T145108Z
DESCRIPTION:If you've never been to a Milk Shake Factory\, you are in for a
  treat! Literally! Eye-popping\, gourmet milkshakes\, sundaes and chocolat
 es are sure to make your next 'diet cheat day' absolutely amazing! And on 
 Wednesday\, October 1st\, 20% of each purchase could be donated to the MSA
  by merely mentioning our name! Plan your family outing now and spread the
  word! Charitable giving couldn't get any sweeter than this!
DTSTART;TZID=America/Denver:20251001T110000
DTEND;TZID=America/Denver:20251001T220000
LOCATION:Milk Shake Factory\, 9291 Highland Ridge Heights Suite 130\, Color
 ado Springs\, CO 80920 US
SUMMARY:Fundraiser at Milk Shake Factory
END:VEVENT
END:VCALENDAR
