BEGIN:VCALENDAR
VERSION:2.0
PRODID:-//msasoco.org//NONSGML kigkonsult.se iCalcreator 2.30.10//
CALSCALE:GREGORIAN
METHOD:PUBLISH
UID:bdcd7f2c-07dd-4e5e-a2b8-0ce13dba71e3
X-WR-CALDESC:Conversations on MS is coming to Colorado Springs! If you can 
 be there in person\, now is your chance to interact live with this signatu
 re event hosted by the Rocky Mountain MS Center! Join us as Dr. Robert Gro
 ss conducts this discussion that is directed by us\, the participants. Bri
 ng your questions and get the answers you'd never dream of getting during 
 your brief appointments with your neurologist. If you have never joined a 
 Conversations on MS\, either in person or over Zoom\, you have no idea wha
 t you've been missing! Go to the link below now and make your reservation.
  We look forward to seeing you there!
X-WR-RELCALID:a6facdbf1bddcbc0c596c2023b75fa2e
X-WR-TIMEZONE:America/Denver
BEGIN:VTIMEZONE
TZID:America/Denver
BEGIN:STANDARD
TZNAME:MST
DTSTART:20241103T020000
TZOFFSETFROM:-0600
TZOFFSETTO:-0700
RDATE:20251102T020000
RDATE:20261101T020000
END:STANDARD
BEGIN:DAYLIGHT
TZNAME:MDT
DTSTART:20250309T020000
TZOFFSETFROM:-0700
TZOFFSETTO:-0600
RDATE:20260308T020000
RDATE:20270314T020000
END:DAYLIGHT
END:VTIMEZONE
BEGIN:VEVENT
UID:9d777dda-2cd7-4151-9c6d-731d49c71bfb
DTSTAMP:20260425T144247Z
DESCRIPTION:Conversations on MS is coming to Colorado Springs! If you can b
 e there in person\, now is your chance to interact live with this signatur
 e event hosted by the Rocky Mountain MS Center! Join us as Dr. Robert Gros
 s conducts this discussion that is directed by us\, the participants. Brin
 g your questions and get the answers you'd never dream of getting during y
 our brief appointments with your neurologist. If you have never joined a C
 onversations on MS\, either in person or over Zoom\, you have no idea what
  you've been missing! Go to the link below now and make your reservation. 
 We look forward to seeing you there!
DTSTART;TZID=America/Denver:20251006T173000
DTEND;TZID=America/Denver:20251006T193000
LOCATION:Pikes Peak Library 21-C\, 1175 Chapel Hills Dr\, Colorado Springs\
 , CO 80920 US
SUMMARY:Conversations on MS
END:VEVENT
END:VCALENDAR
