BEGIN:VCALENDAR
VERSION:2.0
PRODID:-//msasoco.org//NONSGML kigkonsult.se iCalcreator 2.30.10//
CALSCALE:GREGORIAN
METHOD:PUBLISH
UID:c4c0c859-b8af-4dd7-97b8-0089e5172192
X-WR-CALDESC:Smoldering MS: This newly-identified condition is raising conc
 erns across the Multiple Sclerosis landscape. Since MS was first identifie
 d back in 1868\, there were the symptoms of MS\, then the diagnosis. A cen
 tury-plus later\, proof of diagnosis was found in MRI imagery. Smoldering 
 MS\, however\, occurs without symptoms or detectable changes in MRI imager
 y. Yet real disease progression is occurring. Join us for lunch and a disc
 ussion on this new and rapidly evolving topic. Pre-registration is not req
 uired and walk-ins will be welcomed!
X-WR-RELCALID:661e644e72863cf02974580df7fa75d2
X-WR-TIMEZONE:America/Denver
BEGIN:VTIMEZONE
TZID:America/Denver
BEGIN:STANDARD
TZNAME:MST
DTSTART:20241103T020000
TZOFFSETFROM:-0600
TZOFFSETTO:-0700
RDATE:20251102T020000
RDATE:20261101T020000
END:STANDARD
BEGIN:DAYLIGHT
TZNAME:MDT
DTSTART:20250309T020000
TZOFFSETFROM:-0700
TZOFFSETTO:-0600
RDATE:20260308T020000
RDATE:20270314T020000
END:DAYLIGHT
END:VTIMEZONE
BEGIN:VEVENT
UID:c8d5093c-9ff9-4a26-9960-47d44b88e814
DTSTAMP:20260425T144522Z
DESCRIPTION:Smoldering MS: This newly-identified condition is raising conce
 rns across the Multiple Sclerosis landscape. Since MS was first identified
  back in 1868\, there were the symptoms of MS\, then the diagnosis. A cent
 ury-plus later\, proof of diagnosis was found in MRI imagery. Smoldering M
 S\, however\, occurs without symptoms or detectable changes in MRI imagery
 . Yet real disease progression is occurring. Join us for lunch and a discu
 ssion on this new and rapidly evolving topic. Pre-registration is not requ
 ired and walk-ins will be welcomed!
DTSTART;TZID=America/Denver:20251015T120000
DTEND;TZID=America/Denver:20251015T130000
LOCATION:Hacienda Colorado Restaurant\, 5246 N Nevada Avenue\, Colorado Spr
 ings\, CO 80918 US
SUMMARY:Sanofi Discussion Luncheon
END:VEVENT
END:VCALENDAR
