BEGIN:VCALENDAR
VERSION:2.0
PRODID:-//msasoco.org//NONSGML kigkonsult.se iCalcreator 2.30.10//
CALSCALE:GREGORIAN
METHOD:PUBLISH
UID:a7f0a1ae-197d-47be-b8ba-d61b20897810
X-WR-CALDESC:Janice Baker returns to discuss the varied and sometimes surpr
 ising ways that the foods we eat can improve who we are - from strengtheni
 ng our bones to improving our immune system\, 'super foods' really are eve
 rywhere in our diet. Bring your questions and be prepared to meet the food
 s already powering you through your day. Janice's high energy\, humorous t
 akes\, and non-judgmental manner have made her one of the MSA's favorite g
 uest speakers for years. If you haven't yet attended one of Janice's class
 es\, you don't know what you're missing!
X-WR-RELCALID:c1afb4462d5cfb684a52db737b8534d2
X-WR-TIMEZONE:America/Denver
BEGIN:VTIMEZONE
TZID:America/Denver
BEGIN:STANDARD
TZNAME:MST
DTSTART:20241103T020000
TZOFFSETFROM:-0600
TZOFFSETTO:-0700
RDATE:20251102T020000
RDATE:20261101T020000
END:STANDARD
BEGIN:DAYLIGHT
TZNAME:MDT
DTSTART:20250309T020000
TZOFFSETFROM:-0700
TZOFFSETTO:-0600
RDATE:20260308T020000
RDATE:20270314T020000
END:DAYLIGHT
END:VTIMEZONE
BEGIN:VEVENT
UID:bf683e82-a3c9-47e5-8f4e-93f572429047
DTSTAMP:20260425T144532Z
DESCRIPTION:Janice Baker returns to discuss the varied and sometimes surpri
 sing ways that the foods we eat can improve who we are - from strengthenin
 g our bones to improving our immune system\, 'super foods' really are ever
 ywhere in our diet. Bring your questions and be prepared to meet the foods
  already powering you through your day. Janice's high energy\, humorous ta
 kes\, and non-judgmental manner have made her one of the MSA's favorite gu
 est speakers for years. If you haven't yet attended one of Janice's classe
 s\, you don't know what you're missing!
DTSTART;TZID=America/Denver:20251022T110000
DTEND;TZID=America/Denver:20251022T120000
LOCATION:Online only. Contact the MSA to request a link.
SUMMARY:Janice Baker - Food Choices
END:VEVENT
END:VCALENDAR
