BEGIN:VCALENDAR
VERSION:2.0
PRODID:-//msasoco.org//NONSGML kigkonsult.se iCalcreator 2.30.10//
CALSCALE:GREGORIAN
METHOD:PUBLISH
UID:5479f29d-ec7b-4efe-aa92-35136778a48b
X-WR-CALDESC:The Rocky Mountain MS Center’s Education Summits are a series 
 of presentations and discussions with leading minds in the care and treatm
 ent of multiple sclerosis. We present these half-day events twice a year —
  spring and fall — free of charge to all attendees. Join us for this fall 
 event either in-person at the Anschutz Medical Campus\, or over the live s
 tream on Zoom. Registration is required and the link to do so online is av
 ailable below.
X-WR-RELCALID:4686f652fdec4ce8bc79ee9fad9d8200
X-WR-TIMEZONE:America/Denver
BEGIN:VTIMEZONE
TZID:America/Denver
BEGIN:STANDARD
TZNAME:MST
DTSTART:20251102T020000
TZOFFSETFROM:-0600
TZOFFSETTO:-0700
RDATE:20261101T020000
END:STANDARD
BEGIN:DAYLIGHT
TZNAME:MDT
DTSTART:20250309T020000
TZOFFSETFROM:-0700
TZOFFSETTO:-0600
RDATE:20260308T020000
RDATE:20270314T020000
END:DAYLIGHT
END:VTIMEZONE
BEGIN:VEVENT
UID:85fe0c0a-58b9-45b1-8a75-848dfd583ee1
DTSTAMP:20260425T144032Z
DESCRIPTION:The Rocky Mountain MS Center’s Education Summits are a series o
 f presentations and discussions with leading minds in the care and treatme
 nt of multiple sclerosis. We present these half-day events twice a year — 
 spring and fall — free of charge to all attendees. Join us for this fall e
 vent either in-person at the Anschutz Medical Campus\, or over the live st
 ream on Zoom. Registration is required and the link to do so online is ava
 ilable below.
DTSTART;TZID=America/Denver:20251108T090000
DTEND;TZID=America/Denver:20251108T121500
LOCATION:UC Health Anschutz Medical Campus\, 1635 Aurora Ct\, Aurora\, CO 8
 0045 US
SUMMARY:Fall MS Summit
END:VEVENT
END:VCALENDAR
