BEGIN:VCALENDAR
VERSION:2.0
PRODID:-//msasoco.org//NONSGML kigkonsult.se iCalcreator 2.30.10//
CALSCALE:GREGORIAN
METHOD:PUBLISH
UID:dec52bf7-d1f6-444a-a18e-76566011f1c7
X-WR-CALDESC:Due to a crossing of wires between the MSA and Kaye Anderson's
  volunteers\, there was no teacher for this class today. We apologize and 
 look forward to seeing everyone in April.
X-WR-RELCALID:9b9c36bbe3e4d7a605d008198afbb103
X-WR-TIMEZONE:America/Denver
BEGIN:VTIMEZONE
TZID:America/Denver
BEGIN:STANDARD
TZNAME:MST
DTSTART:20251102T020000
TZOFFSETFROM:-0600
TZOFFSETTO:-0700
RDATE:20261101T020000
END:STANDARD
BEGIN:DAYLIGHT
TZNAME:MDT
DTSTART:20260308T020000
TZOFFSETFROM:-0700
TZOFFSETTO:-0600
RDATE:20270314T020000
END:DAYLIGHT
END:VTIMEZONE
BEGIN:VEVENT
UID:f99aa4e3-4976-4fbd-bf39-ad8a83a94e80
DTSTAMP:20260423T154651Z
DESCRIPTION:Due to a crossing of wires between the MSA and Kaye Anderson's 
 volunteers\, there was no teacher for this class today. We apologize and l
 ook forward to seeing everyone in April.
DTSTART;TZID=America/Denver:20260318T114500
DTEND;TZID=America/Denver:20260318T124500
LOCATION:MSASOCO Main Room and Online\, 7011 Campus Drive\, Colorado Spring
 s\, CO 80920 US
SUMMARY:Gentle Somatic Chair Yoga Cancelled
END:VEVENT
END:VCALENDAR
